BEGIN:VCALENDAR
VERSION:2.0
PRODID:-//Agrupació del Bestiari Festiu i Popular de Catalunya - ECPv4.5.3//NONSGML v1.0//EN
CALSCALE:GREGORIAN
METHOD:PUBLISH
X-WR-CALNAME:Agrupació del Bestiari Festiu i Popular de Catalunya
X-ORIGINAL-URL:https://www.bestiari.cat
X-WR-CALDESC:Events for Agrupació del Bestiari Festiu i Popular de Catalunya
BEGIN:VEVENT
DTSTART;TZID=UTC+1:20170901T203000
DTEND;TZID=UTC+1:20170901T233000
DTSTAMP:20260422T083242
CREATED:20170831T140105Z
LAST-MODIFIED:20170831T140105Z
UID:2773-1504297800-1504308600@www.bestiari.cat
SUMMARY:VII Concurs d'Enceses Ciutat de Tortosa
DESCRIPTION:PROGRAMA D'ACTES:\n\n\n\n \t20:30h   PLANTADA DE LES BÈSTIES DE FOC\nPLANTADA de les Bèsties de foc participants al XXXIV Correfoc de les Terres de L’Ebre.\n \t 20:45h   El DRAC DESPISTAT\nEl DRAC DESPISTAT\, funció infantil a càrrec de la companyia IMAGINÍFITY per donar a conèixer les bèsties del XXXIV Correfoc de les Terres de l’Ebre.\n \t 21:15h   CARRETILLADA INFANTIL\nCARRETILLADA INFANTIL a càrrec dels diables petits de les colles de la Ciutat. Lloc: Pl. Ajuntament.\n \t 22.00h   CERCAVILA\nCERCAVILA sense foc de totes les colles i bèsties participants al XXXIV Correfoc de les Terres de l’Ebre. Recorregut: Pl. Ajuntament\, C. Doctor Vilà i Av. Generalitat (enfront escales del Parc Municipal Teodor Gonzàlez).\n \t22:30h   INICI del XXXIV CORREFOC de les Terres de l’Ebre amb el VII Concurs d’enceses Ciutat de Tortosa\nINICI del XXXIV CORREFOC de les Terres de l’Ebre amb el VII Concurs d’enceses Ciutat de Tortosa on les colles mostraran el seu domini del foc. Lloc: Av. Generalitat (enfront escales del parc municipal Teodor Gonzàlez)\, C. Doctor Vilà i Pl. Ajuntament.\n \t 23:30h   La PLAÇA CREMA\nLa PLAÇA CREMA\, espectacle final del XXXIV Correfoc de les Terres de l’Ebre amb la gran encesa conjunta de totes les colles participants.\nLloc: Pl. Ajuntament\n\n\nCOLLES PARTICIPANTS:\nBall de diables Lucifers amb el drac Nortis de Roquetes (Baix Ebre)\, Ball de diables de Tarragona (Tarragonès)\, Colla Jove de dolçainers de Tortosa amb el drac Lo Carrau (Tortosa)\, Drac Sant Roc de Tarragona (Tarragonès)\, L’Au Fènix del ball de diables els 7 pecats Capitals de la Pobla de Mafumet (Tarragonès)\, Ball de Diables 7 Cervells amb el drac Hydracus de Jesús (Tortosa)\, Diables Lo Minotaure d’Amposta (Montsià)\, Colla de diables i tambors Lo Golafre amb el drac Grafus i Golafre de Remolins (Tortosa)\, Colla de diables El Jordiet de Garcia (Ribera d’Ebre)\, Diables Llampec Nois amb el Drac Jordiet de Ferreries (Tortosa).\n\nELS DEU DRACS PARTICIPANTS SÓN:\n\n \t1. Ball de diables Lucifers amb el drac Nortis de Roquetes (Baix Ebre)\n \t2. Ball de diables de Tarragona (Tarragonès)\n \t3. Colla Jove de dolçainers de Tortosa amb el drac Lo Carrau (Tortosa)\n \t4. Drac Sant Roc de Tarragona (Tarragonès)\n \t5. L'Au Fènix del ball de diables els 7 pecats Capitals de la Pobla de Mafumet (Tarragonès)\n \t6. Ball de Diables 7 Cervells amb el drac Hydracus de Jesús (Tortosa)\n \t7. Diables Lo Minotaure d’Amposta (Montsià)\n \t8. Colla de diables i tambors Lo Golafre amb el drac Grafus i Golafre de Remolins (Tortosa)\n \t9. Colla de diables El Jordiet de Garcia (Ribera d'Ebre)\n \t10. Diables Llampec Nois amb el Drac Jordiet de Ferreries (Tortosa).\n\n\n
URL:https://www.bestiari.cat/esdeveniment/vii-concurs-denceses-ciutat-de-tortosa/
LOCATION:Plaça de l'Ajuntament\, Tortosa\, Espanya
CATEGORIES:Activitats associats,Terres de l'Ebre-Maestrat
ATTACH;FMTTYPE=image/jpeg:https://www.bestiari.cat/wp-content/uploads/2017/08/21192217_1504116379649067_5753596351016510122_n.jpg
END:VEVENT
END:VCALENDAR