BEGIN:VCALENDAR
VERSION:2.0
PRODID:-//Agrupació del Bestiari Festiu i Popular de Catalunya - ECPv4.5.3//NONSGML v1.0//EN
CALSCALE:GREGORIAN
METHOD:PUBLISH
X-WR-CALNAME:Agrupació del Bestiari Festiu i Popular de Catalunya
X-ORIGINAL-URL:https://www.bestiari.cat
X-WR-CALDESC:Events for Agrupació del Bestiari Festiu i Popular de Catalunya
BEGIN:VEVENT
DTSTART;TZID=UTC+1:20170902T110000
DTEND;TZID=UTC+1:20170902T220000
DTSTAMP:20260420T111514
CREATED:20170807T105029Z
LAST-MODIFIED:20170812T181059Z
UID:2713-1504350000-1504389600@www.bestiari.cat
SUMMARY:Festa Infantil de la Fil·loxera
DESCRIPTION:La vila de Sant Sadurní d'Anoia acull enguany la 36a edició de la Festa de la Fil·loxera\, marcada per la declaració com a Festa Patrimonial d'Interès Cultural\, a més del 25è aniversari de la Festa de la Fil.loxera infantil\, el 30è aniversari de l’aparició de les 30 fil.loxeretes i el 15è aniversari de la Fil.loxera dels avis.\n\nPROGRAMA D'ACTES 2 DE SETEMBRE:\n\n \tFESTA INFANTIL\nLloc: Plaça de l’Ajuntament.\nHorari: A partir de les 11h fins a la 1 del migdia: inflables i tallers.\nA les 18h: Plantada d’elements infantils.\n \tVIU LA FESTA COM ELS GRANS! CELEBREM 25 ANYS DE LA FESTA INFANTIL\nHora i lloc de concentració: al capdamunt del carrer Raval a ¾ de 8 del vespre.\nInici de la Baixada: 8 del vespre. Recorregut: Raval\, Dr. Escayola\, Plaça de l’Ajuntament\, Hospital\, Església\, Mossèn Fontanilles per finalitzar a la Plaça de l’Esglèsia.\n\nConsulteu el programa d'actes complet en PDF: programaFiloxera17_v5
URL:https://www.bestiari.cat/esdeveniment/festa-infantil-de-la-filloxera/
LOCATION:Carrer Raval\, Sant Sadurní d'Anoia\, Espanya
CATEGORIES:Activitats associats,Penedès-Garraf
ATTACH;FMTTYPE=image/jpeg:https://www.bestiari.cat/wp-content/uploads/2017/08/Captura-2.jpg
END:VEVENT
BEGIN:VEVENT
DTSTART;TZID=UTC+1:20170902T180000
DTEND;TZID=UTC+1:20170902T233000
DTSTAMP:20260420T111514
CREATED:20170831T134859Z
LAST-MODIFIED:20170831T134859Z
UID:2766-1504375200-1504395000@www.bestiari.cat
SUMMARY:XXVI Nit del Foc Cambrils
DESCRIPTION:La Nit del Foc s’ha anat consolidant any rere any com un dels moments més rellevants de la Festa Major de la Mare de Déu del Camí de Cambrils\, es celebra el primer dissabte de setembre i està coorganitzada per la colla gegantera Tota l’Endenga i l’Ajuntament de Cambrils.\n\nEl proper 2 de setembre tindrà lloc la 26ena edició de la Nit del Foc i els actes començaran a les 18:00h  a la plaça de la Vila amb la presentació de La Farnaqueta\, la nova bèstia de foc de la colla\, obra del escultor Ramon Aumedes del Taller Sarandaca i que compta amb el patrocini de l’empresa BASF Española SL i el suport de l'Agrupació del Bestiari Festiu i el Departament de Cultura de la Generalitat de Catalunya. La Colla Gegantera Tota l’Endenga ja fa temps que tenia en ment crear una bèstia de foc infantil i juvenil per poder implicar als xiquets i xiquetes de la colla d’entre 10 i 16 anys i fer-los participar de la vessant de foc.\n\nUn cop presentada la Farnaqueta\, s'iniciarà el correfoc infantil conjuntament amb les colles infantils de diables de les Borges del Camp\, Altafulla i Cagarrieres de Cambrils. Acabarem amb un final de festa en el que ens acompanyaran el Marquès de los Vélez\, el Cabo Quiñones\, grallers i timbalers de la colla Tota l’Endenga i els Nenyos.\n\nA la nit i pels carrers del Barri Antic de Cambrils s’iniciarà el correfoc a la Plaça de la Vila a les 22.30h i comptarà amb la presència dels Diables de Balaguer\, Vila-seca\, Pratdip\, Lleida\, Gelida i Cagarrieres de Cambrils. A més\, les bèsties confirmades són la Galera de Cambrils dels Cagarrierres\, el Lluert\, la Cabra de Reus\, Lo Drac Carrincló de Lleida i la Farnaca\, acompanyada del Grup de Timbalers Cop de Cap de Cambrils i els gegants Marquès de los Vélez i el Cabo Quiñones. Finalitzarà a les 00.00 h a la plaça del Setge amb un gran espectacle de pirotècnia i a continuació seguirà la festa amb un concert obert a tothom amb l’orquestra Mitjanit i DJ Ceba\, al Parc del Pinaret.\n\nPodeu consultar el programa complet en aquest enllaç: ProgramaNitFoc
URL:https://www.bestiari.cat/esdeveniment/xxvi-nit-del-foc-cambrils/
LOCATION:Plaça de la Vila\, Cambrils\, Espanya
CATEGORIES:Activitats associats,El Camp-Conca-Priorat
ATTACH;FMTTYPE=image/jpeg:https://www.bestiari.cat/wp-content/uploads/2017/08/2017_cartell_nitfoc_2017_traz-Medium.jpg
ORGANIZER;CN="Colla%20Gegantera%20Tota%20l%27Endenga%20de%20Cambrils":MAILTO:totalendenga@totalendenga.org
END:VEVENT
END:VCALENDAR