BEGIN:VCALENDAR
VERSION:2.0
PRODID:-//Agrupació del Bestiari Festiu i Popular de Catalunya - ECPv4.5.3//NONSGML v1.0//EN
CALSCALE:GREGORIAN
METHOD:PUBLISH
X-WR-CALNAME:Agrupació del Bestiari Festiu i Popular de Catalunya
X-ORIGINAL-URL:https://www.bestiari.cat
X-WR-CALDESC:Events for Agrupació del Bestiari Festiu i Popular de Catalunya
BEGIN:VEVENT
DTSTART;VALUE=DATE:20170907
DTEND;VALUE=DATE:20171011
DTSTAMP:20260421T020138
CREATED:20170831T152659Z
LAST-MODIFIED:20170831T152659Z
UID:2779-1504742400-1507766399@www.bestiari.cat
SUMMARY:Exposició "Pirotècnia de festa" al Museu d'Etnologia de Castelló
DESCRIPTION:L'Associació Botafocs de Castelló de la Plana\, amb el suport de l'Ajuntament de Castelló (Regidoria de Cultura)\, i en col·laboració amb el Museu Etnològic de Barcelona\, l'Associació de Trabucaires Xaloc\, el pirotècnic Nos de Castelló i Pirotècnia Catalana\, presenten l'exposició "Pirotècnia de Festa" al Museu d'Etnologia de Castelló.\n\nL'exposició\, que es podrà visitar des del dia 7 de setembre fins a l'11 d'octubre de 2017\, repassa la presència de la pirotècnia en el món dels fabricants\, els rituals festius\, en les armes de foc\, l'ús individual de la mateixa\, la lluita simbòlica del bé i el mal\, els balls de dimonis històrics\, el bestiari festiu\, els castells de foc\, el joc amb el foc\, els trets de la pirotècnia valenciana i  els correfocs\, mitjançant diferents panels informatius i materials (indumentària dels dimonis\, estructures pirotècniques\, estris dels trabucaires\, figures de bestiari\, materials audiovisuals\, maquetes...).\n\nAquesta exposició esdevé una continuació de les diferents exposicions impulsades per Botafocs ("Els nous cabuts de la ciutat"\, "Botafocs 25 anys\, cultura popular amb cares i ulls"\, "Ramon Aumedes\, constructor de la festa"\, "Botafocs\, 25 anys de dimonis i bestiari"\, "IX Mostra de Bestiari"\, "20 anys de dimonis i bestiari"\, "La corfa del dimoni"\, "La víbria de Botafocs"\, entre d'altres).
URL:https://www.bestiari.cat/esdeveniment/exposicio-pirotecnia-de-festa-al-museu-detnologia-de-castello/
LOCATION:Carrer Cavallers\, 25\, Castelló de la Plana\, Espanya
CATEGORIES:Activitats associats,País Valencià
ATTACH;FMTTYPE=image/jpeg:https://www.bestiari.cat/wp-content/uploads/2017/08/20708386_1484649558262416_8799923841686942139_n.jpg
END:VEVENT
END:VCALENDAR