BEGIN:VCALENDAR
VERSION:2.0
PRODID:-//Agrupació del Bestiari Festiu i Popular de Catalunya - ECPv4.5.3//NONSGML v1.0//EN
CALSCALE:GREGORIAN
METHOD:PUBLISH
X-WR-CALNAME:Agrupació del Bestiari Festiu i Popular de Catalunya
X-ORIGINAL-URL:https://www.bestiari.cat
X-WR-CALDESC:Events for Agrupació del Bestiari Festiu i Popular de Catalunya
BEGIN:VEVENT
DTSTART;VALUE=DATE:20171010
DTEND;VALUE=DATE:20171115
DTSTAMP:20260423T200739
CREATED:20171010T050144Z
LAST-MODIFIED:20171010T050144Z
UID:2952-1507593600-1510790399@www.bestiari.cat
SUMMARY:Exposició 'Cavallets... endavant! Els cavallets cotoners de Barcelona'
DESCRIPTION:L'exposició fotogràfica 'Cavallets... endavant! Els cavallets cotoners de Barcelona'\, impulsada el 2013 amb motiu del vuitantè aniversari de la construcció d'aquestes vuit peces en forma de cavall\, es torna a exposar a la Casa dels Entremesos de Barcelona fins al 15 de novembre. Es pot visitar de dimarts a dissabte de 10 a 13 hores i de 16 a 19 hores i els diumenges de les 11 a les 14 hores.\n\n\nL'exposició mostra una cinquantena de fotografies dels cavallets de l'Esbart Català de Dansaires\, preses entre 1933 i 2013\, i ofereix una introducció als balls de cavallets de Catalunya. La mostra s'acompanya amb el fulletó Els Cavallets Cotoners de Barcelona. Cavallets\, cavallins i cotonines a Catalunya\, i l'esbart també disposa de l'obra Els Cavallets Cotoners de Barcelona. Cavallets\, cavallins i cotonines a Catalunya\, editada l'any 2002.\n\n\nMés informació: info@esbartcatala.org
URL:https://www.bestiari.cat/esdeveniment/exposicio-cavallets-endavant-els-cavallets-cotoners-de-barcelona/
LOCATION:Plaça de les Beates\, 2\, Barcelona\, Barcelona\, 08010\, Espanya
CATEGORIES:Activitats associats,Barcelona Ciutat
ATTACH;FMTTYPE=image/jpeg:https://www.bestiari.cat/wp-content/uploads/2017/10/cavallets-endavant.jpg
END:VEVENT
END:VCALENDAR