BEGIN:VCALENDAR
VERSION:2.0
PRODID:-//Agrupació del Bestiari Festiu i Popular de Catalunya - ECPv4.5.3//NONSGML v1.0//EN
CALSCALE:GREGORIAN
METHOD:PUBLISH
X-WR-CALNAME:Agrupació del Bestiari Festiu i Popular de Catalunya
X-ORIGINAL-URL:https://www.bestiari.cat
X-WR-CALDESC:Events for Agrupació del Bestiari Festiu i Popular de Catalunya
BEGIN:VEVENT
DTSTART;TZID=UTC+1:20241129T180000
DTEND;TZID=UTC+1:20241129T190000
DTSTAMP:20260425T111436
CREATED:20241127T160639Z
LAST-MODIFIED:20241127T160639Z
UID:25264-1732903200-1732906800@www.bestiari.cat
SUMMARY:Aplec de Sant Sadurní 2024 a Montornès del Vallès
DESCRIPTION: 29 de novembre\, a les 18 h\n\n Sortida des de la plaça de Joan Miró. A les 18.30 h s'iniciarà el recorregut en direcció al carrer de Joan XXIII\, fins a l'església de Sant Sadurní\, on es durà a terme els següents actes:\n\n- Entrada del Bou de Montornès a l'església\n- Parlaments institucionals\n- Ball de l'homenatge\n- Toc a flabiol del Virolai de Montserrat\n- Ofrena floral\n- Cant dels Goigs de Sant Sadurní i la peça "Quan el món és negra nit". A càrrec de la coral "La Lira"\n- Sortida del Bou de l'església\, ball i enceses de foc en honor al Sant.\n-\n Us hi esperem!\n\n
URL:https://www.bestiari.cat/esdeveniment/aplec-de-sant-sadurni-2024-a-montornes-del-valles/
CATEGORIES:Activitats associats,Territorials,Vallès-Maresme-Barcelonès Nord
END:VEVENT
END:VCALENDAR