BEGIN:VCALENDAR
VERSION:2.0
PRODID:-//Agrupació del Bestiari Festiu i Popular de Catalunya - ECPv4.5.3//NONSGML v1.0//EN
CALSCALE:GREGORIAN
METHOD:PUBLISH
X-WR-CALNAME:Agrupació del Bestiari Festiu i Popular de Catalunya
X-ORIGINAL-URL:https://www.bestiari.cat
X-WR-CALDESC:Events for Agrupació del Bestiari Festiu i Popular de Catalunya
BEGIN:VEVENT
DTSTART;TZID=UTC+1:20241206T203000
DTEND;TZID=UTC+1:20241206T230000
DTSTAMP:20260425T011918
CREATED:20241204T111927Z
LAST-MODIFIED:20241204T111927Z
UID:25283-1733517000-1733526000@www.bestiari.cat
SUMMARY:Correfoc Infantil de Festa Major Sant Andreu de Palomar
DESCRIPTION:Divendres 6 de desembre Correfoc Infantil de Festa Major Sant Andreu de Palomar! \n\nVeniu a gaudir a les 20.30 h a Plaça Orfila de Sant Andreu de Palomar \n\nMoltes ganes de compartir amb la nostra colla convidada @cremats_de_sils i les nostres companyes @lasatanicasantandreu\n\n\n
URL:https://www.bestiari.cat/esdeveniment/correfoc-infantil-de-festa-major-sant-andreu-de-palomar/
CATEGORIES:Activitats associats,Barcelona Ciutat,Territorials
END:VEVENT
END:VCALENDAR