BEGIN:VCALENDAR
VERSION:2.0
PRODID:-//Agrupació del Bestiari Festiu i Popular de Catalunya - ECPv4.5.3//NONSGML v1.0//EN
CALSCALE:GREGORIAN
METHOD:PUBLISH
X-WR-CALNAME:Agrupació del Bestiari Festiu i Popular de Catalunya
X-ORIGINAL-URL:https://www.bestiari.cat
X-WR-CALDESC:Events for Agrupació del Bestiari Festiu i Popular de Catalunya
BEGIN:VEVENT
DTSTART;TZID=UTC+1:20241207T160000
DTEND;TZID=UTC+1:20241207T190000
DTSTAMP:20260425T000532
CREATED:20241204T112154Z
LAST-MODIFIED:20241204T112154Z
UID:25286-1733587200-1733598000@www.bestiari.cat
SUMMARY:La Mula Baba a la inauguració del Pessebre de Girona
DESCRIPTION:Comença el final del 2024 i La Mula Baba el dissabte 7 de desembre inaugurà el Pessebre de l'Ajuntament de Girona. Començaran a les 16 h a la palaça de la Independència i aniran cap a la plaça del VI\, després faran un taller de pessebres i un cop inaugurat el Pessebre de l'Ajuntament faran la representació de l'adaptació dels pastorets de Folch i Torres amb les titelles de la Mula Baba! \n\nEns veiem dissabte! \n\n
URL:https://www.bestiari.cat/esdeveniment/la-mula-baba-a-la-inauguracio-del-pessebre-de-girona/
CATEGORIES:Activitats associats,Girona-Catalunya Nord i L'Hérault,Territorials
END:VEVENT
BEGIN:VEVENT
DTSTART;TZID=UTC+1:20241207T203000
DTEND;TZID=UTC+1:20241207T230000
DTSTAMP:20260425T000532
CREATED:20241204T111711Z
LAST-MODIFIED:20241204T111711Z
UID:25280-1733603400-1733612400@www.bestiari.cat
SUMMARY:Correfoc de la Festa Major de Sant Andreu del Palomar
DESCRIPTION:Dissabte 7 desembre Correfoc Adult a la Festa Major de Sant Andreu de Palomar!\nAmb @diablesdesantandreu i @lasatanicasantandreu \n\nA les 20.30 h a Plaça Orfila un fantàstic espectacle a mans de @diablesdesantandreu \n\nA les 21 h comença el Correfoc amb la nostra colla convidada @diablesdegranollers !!! No us ho perdeu!!! \n\n
URL:https://www.bestiari.cat/esdeveniment/correfoc-de-la-festa-major-de-sant-andreu-del-palomar/
CATEGORIES:Activitats associats,Barcelona Ciutat,Territorials
END:VEVENT
END:VCALENDAR