BEGIN:VCALENDAR
VERSION:2.0
PRODID:-//Agrupació del Bestiari Festiu i Popular de Catalunya - ECPv4.5.3//NONSGML v1.0//EN
CALSCALE:GREGORIAN
METHOD:PUBLISH
X-WR-CALNAME:Agrupació del Bestiari Festiu i Popular de Catalunya
X-ORIGINAL-URL:https://www.bestiari.cat
X-WR-CALDESC:Events for Agrupació del Bestiari Festiu i Popular de Catalunya
BEGIN:VEVENT
DTSTART;TZID=UTC+1:20241214T120000
DTEND;TZID=UTC+1:20241214T213000
DTSTAMP:20260424T144458
CREATED:20241211T133600Z
LAST-MODIFIED:20241211T133600Z
UID:25326-1734177600-1734211800@www.bestiari.cat
SUMMARY:3a Trobada de Bèsties de Foc de Mollet del Vallès
DESCRIPTION:Mollet s’encén de nou les bèsties de foc! \n\nEl dissabte 14 de desembre\, vine a gaudir d’un espectacle ple de foc\, música i tradició. ✨\n\n Dissabte 14 de desembre\n Plaça Pau Casals\n⏰\n12 h Plantada de bèsties\n18 h Cercavila\n19 h Inici Correfoc\n\n T’ho perdràs? Marca la data al teu calendari i acompanya’ns!\n\n
URL:https://www.bestiari.cat/esdeveniment/3a-trobada-de-besties-de-foc-de-mollet-del-valles/
CATEGORIES:Activitats associats,Territorials,Vallès-Maresme-Barcelonès Nord
END:VEVENT
BEGIN:VEVENT
DTSTART;TZID=UTC+1:20241214T180000
DTEND;TZID=UTC+1:20241214T233000
DTSTAMP:20260424T144458
CREATED:20241211T133211Z
LAST-MODIFIED:20241211T133211Z
UID:25323-1734199200-1734219000@www.bestiari.cat
SUMMARY:Cremem Sant Boi - Última Flama
DESCRIPTION:Dotze anys després\, arriba amb molta força l'última edició del Cremem Sant Boi. Per motius aliens a l'organització ens veiem obligats a finalitzar aquest format\, però no ho farem sense abans haver-ho cremat tot.\n\nEnguany comptem amb la participació de més d'una vintena de grups que anirem presentant els dies vinents. Grups amb moltes ganes de veure-ho tot en flames un cop més\, amb moltes ganes de cremar la ciutat.\n\nTambé comptem amb més de trenta col·laboradors en aquesta edició. Comerços petits i grans que ens han ajudat a fer possible que puguem tancar aquesta trobada\, la primera de malabars de foc al nostre territori\, com mai hem pogut somiar. També us els anirem presentant.\n\n️ 14 de desembre del 2024\n\n Tabalada\n⏰ 18.00h - 19.00h\n Plaça de l'Estatut - C/ Indústria - C/ Dídac Priu - C/ Mossèn Jacint Verdaguer - Plaça Catalunya.\n\n Malabars\n⏰ 19.00h - 22.00h\n Plaça Catalunya - Av. Onze de Setembre - C/ Francesc Macià - C/ Lluís Pascual i Roca - Plaça de la República.\n\n
URL:https://www.bestiari.cat/esdeveniment/cremem-sant-boi-ultima-flama/
CATEGORIES:Activitats associats,Baix Llobregat i L'Hospitalet,Territorials
END:VEVENT
BEGIN:VEVENT
DTSTART;TZID=UTC+1:20241214T180000
DTEND;TZID=UTC+1:20241214T223000
DTSTAMP:20260424T144458
CREATED:20241211T133820Z
LAST-MODIFIED:20241211T133820Z
UID:25329-1734199200-1734215400@www.bestiari.cat
SUMMARY:II Trobada de Bestiari per el Firat de Nadal de Lliçà de Vall
DESCRIPTION:Amb l’entrada del fred presentem la II Trobada de Bestiari per el Firat de Nadal de Lliçà de Vall!\n\nVine a gaudir de la fira i l’espectacle! T’esperem el 14 de Desembre a partir de les 18.00h. Salut\, foc i toc! \nComptarem amb les següents besties:\n- La Godra de @balldediables_caldesdemontbui\n- El Godrac de @godracmataro\n- Drac Ceballot de @balldediablesidracdemontornes\n- Drac Nervón de @dracibruixesdecanboada\n\n
URL:https://www.bestiari.cat/esdeveniment/ii-trobada-de-bestiari-per-el-firat-de-nadal-de-llica-de-vall/
CATEGORIES:Activitats associats,Territorials,Vallès-Maresme-Barcelonès Nord
END:VEVENT
END:VCALENDAR