BEGIN:VCALENDAR
VERSION:2.0
PRODID:-//Agrupació del Bestiari Festiu i Popular de Catalunya - ECPv4.5.3//NONSGML v1.0//EN
CALSCALE:GREGORIAN
METHOD:PUBLISH
X-WR-CALNAME:Agrupació del Bestiari Festiu i Popular de Catalunya
X-ORIGINAL-URL:https://www.bestiari.cat
X-WR-CALDESC:Events for Agrupació del Bestiari Festiu i Popular de Catalunya
BEGIN:VEVENT
DTSTART;TZID=UTC+1:20241221T080000
DTEND;TZID=UTC+1:20241222T170000
DTSTAMP:20260424T043639
CREATED:20241218T081709Z
LAST-MODIFIED:20241218T081709Z
UID:25362-1734768000-1734886800@www.bestiari.cat
SUMMARY:Fira del Gall 2024
DESCRIPTION:La fira de la tradició\, el producte de proximitat i les activitats amb el Gall com a protagonista\nVilafranca del Penedès celebra la 360a edició de la Fira del Gall\, un esdeveniment de llarga trajectòria que torna els dies 21 i 22 de desembre al parc de Sant Julià i al Pavelló Firal. Aquest mercat d'aviram\, amb arrels medievals\, destaca per la presència del Gall del Penedès amb IGP\, una raça d'au autòctona reconeguda per la seva qualitat i sabor únic\, que es converteix en l’autèntic protagonista de la cita. La fira no només ofereix l'oportunitat de comprar aviram per Nadal\, sinó que també acull una mostra de cuina d’aviram i una selecció de vins de la DO Penedès\, creant una experiència completa per als amants de la gastronomia.\n\nAmb una programació plena d'activitats\, la Fira del Gall és una de les tradicions més arrelades de Vilafranca\, aplegant cada any milers de visitants per gaudir de l'ambient festiu i de la millor cuina local en el cap de setmana previ a les festes.\n\nEl Tomasot i Ballarica són un gall i una gallina que formen part del bestiari Festiu de Vilafranca. Ballen al so de la música i els més petits aprofiten el context de la Fira del Gall per donar el xumet a la Ballarica\, que se'l penja en un cordó al voltant del coll. Sabeu per què el Gall es diu Tomassot? Perquè\, antigament\, la Fira del Gall se celebrava sempre el 21 de desembre\, per Sant Tomàs.\n\nEl dissabte 21 de desembre acompanyaran a la comitiva d'autoritats des de la Plaça de la Vila fins al recinte firal per a la inauguració de la 360a edició de la Fira del Gall.\n\nEl diumenge 22 faran d'amfitriones\, juntament amb l’Àliga del Barri de Sant Julià i l’Aligueta Tramuntana de les bèsties de ploma convidades a la XXVIIa Mostra de Bestiari Festiu i de Ploma. L'acte començarà a les 10 h amb la plantada de bestiari a la Plaça de la Gastronomia. A les 11 h\, la Gallina Ballarica recollirà els xumets dels infants que deixin el costum de xumar i els obsequiarà amb un dolç record.\n\nA les 12 h començarà la cercavila des de la mateixa Plaça de la Gastronomia fins a la plaça de la Vila on faran una actuació de lluïment\, prevista a les 14 h. La cercavila recorrererà l'avinguda de Catalunya\, els carrers d’Hermenegild Clascar i de Sant Bernat\, la plaça de Jaume I\, la plaça de l’Oli\, la plaça Vall del Castell\, la plaça de la Constitució\, el carrer de la Parellada\, la rambla de Nostra Senyora\, la plaça de Llorenç i Barba\, els carrers de la Palma i de Sant Joan\, la plaça de Sant Joan i la plaça de la Vila.\n\nConsulta aquí el programa\n\n
URL:https://www.bestiari.cat/esdeveniment/fira-del-gall-2024/
CATEGORIES:Activitats associats,Penedès-Garraf,Territorials
END:VEVENT
BEGIN:VEVENT
DTSTART;TZID=UTC+1:20241221T110000
DTEND;TZID=UTC+1:20241221T190000
DTSTAMP:20260424T043639
CREATED:20241205T152416Z
LAST-MODIFIED:20241205T152416Z
UID:25317-1734778800-1734807600@www.bestiari.cat
SUMMARY:A la recerca del Tió Perdut amb el Drac Pigota
DESCRIPTION:El Drac Pigota us proposa una activitat súper xula pel dissabte 21 de desembre de 2024!\n\nBusquen als nens i nenes més aventurers de La Pobla de Montornès per anar a buscar el tió que s'ha perdut! Us esperen a les 11 h a la plaça de l'Església.\n\nI a la tarda\,  a partir de les 17 h\, faran cagar el tió i podreu gaudir d'una activitats de Realitat Virtual amb les ulleres de Bestiari!\n\nT'hi apuntes?\n\n
URL:https://www.bestiari.cat/esdeveniment/a-la-recerca-del-tio-perdut-amb-el-drac-pigota/
CATEGORIES:Activitats associats,Territorials,Vallès-Maresme-Barcelonès Nord
END:VEVENT
BEGIN:VEVENT
DTSTART;TZID=UTC+1:20241221T110000
DTEND;TZID=UTC+1:20241221T233000
DTSTAMP:20260424T043639
CREATED:20241218T125523Z
LAST-MODIFIED:20241218T125554Z
UID:25365-1734778800-1734823800@www.bestiari.cat
SUMMARY:Normativa del diable amb el Ball de Diables del Prat
DESCRIPTION:El proper dissabte 21 de desembre ve ben carregat!\n\nAl matí tenim l’oportunitat de presentar-vos aquesta jornada de reflexió “Normativa del diable” que farem de la mà de la @cbdtradicionals i @bestiari.cat amb el suport de la @federacioelnus\n\nUna ocasió única per escoltar i debatre sobre els temes que sempre tenim sobre la taula en relació amb les normatives dels Diables\, que afecten al Prat i cada cop a més indrets del Principat. Cal posar fil a l’agulla i aquest és un molt bon punt d’inici. ⚖️\n\nUs esperem amb les portes obertes a La Nau de Cultura Popular (Pl. Xavier Ruiz Millán).\n\nPerò el dia no acabarà pas aquí. Reserveu-vos la tarda del 21\, perquè enguany engeguem una novetat al calendari del Ball: el Quinto de Nadal!!!\n\nAnirem revelant nova informació a mesura que s’apropi el dia\, de moment us avancem que la primera ronda començarà a les 18h i que el cos el farem moure fins ben entrada la nit\n\n
URL:https://www.bestiari.cat/esdeveniment/normativa-del-diable-amb-el-ball-de-diables-del-prat/
CATEGORIES:Activitats associats,Baix Llobregat i L'Hospitalet,Territorials
END:VEVENT
END:VCALENDAR