BEGIN:VCALENDAR
VERSION:2.0
PRODID:-//Agrupació del Bestiari Festiu i Popular de Catalunya - ECPv4.5.3//NONSGML v1.0//EN
CALSCALE:GREGORIAN
METHOD:PUBLISH
X-WR-CALNAME:Agrupació del Bestiari Festiu i Popular de Catalunya
X-ORIGINAL-URL:https://www.bestiari.cat
X-WR-CALDESC:Events for Agrupació del Bestiari Festiu i Popular de Catalunya
BEGIN:VEVENT
DTSTART;TZID=UTC+1:20250113T090000
DTEND;TZID=UTC+1:20250117T200000
DTSTAMP:20260420T081353
CREATED:20250114T191923Z
LAST-MODIFIED:20250114T191933Z
UID:25494-1736758800-1737144000@www.bestiari.cat
SUMMARY:Exposició del Seguici Popular Canongí
DESCRIPTION:Exposició del Seguici Popular Canongí\n\nVols veure de ben a prop els elements del Seguici Popular de la Canonja? A més a més dels Gegants\, podràs trobar els Nanos\, el Mico i la Mica\, el Mamut i el Ball de Diables durant aquesta setmana\, entre el 13 i el 17 de gener\, al Castell de Masricart.\n\nL’horari és els matins de dilluns\, dimecres i divendres de 9h a 13h\, i totes les tardes de dilluns a divendres de 16h a 20h.\n
URL:https://www.bestiari.cat/esdeveniment/exposicio-del-seguici-popular-canongi/
LOCATION:La Canonja\, 43110\, Espanya
CATEGORIES:Activitats associats,El Camp-Conca-Priorat,Territorials
END:VEVENT
BEGIN:VEVENT
DTSTART;TZID=UTC+1:20250116T193000
DTEND;TZID=UTC+1:20250116T210000
DTSTAMP:20260420T081353
CREATED:20250109T090825Z
LAST-MODIFIED:20250113T111926Z
UID:25442-1737055800-1737061200@www.bestiari.cat
SUMMARY:Xerrada de Sant Antoni a la Casa dels Entremesos
DESCRIPTION:Dijous 16 de gener de 2025\, a les 19.30 h a La Casa dels Entremesos\, l'Associació de Festes de la Plaça Nova organitza la tradicional Xerrada de Sant Antoni en el marc del Bicentenari dels Tres Tombs de Sant Antoni de Barcelona i amb el títol:\n«COM ES CELEBRA SANT ANTONI A CATALUNYA? Vilanova i la Geltrú\, Igualada i Barcelona»\nSant Antoni se celebra arreu del país amb moltes i diverses manifestacions. A nombroses poblacions del país\, al voltant de la benedicció d'animals\, s'ha bastit un seguit de tradicions com ara les cavalcades\, popularment conegudes majoritàriament\, com els Tres Tombs\, amb la desfilada d'animals de peu rodó i de tota mena de carruatges.\n Per conèixer algunes de les celebracions dels Tres Tombs de Sant Antoni a Catalunya\, a la xerrada hi participaran: Montserrat Argelich\, presidenta de l’Antic Gremi de Traginers d'Igualada\, Jordi Cubillos\, estudiós de la cultura popular i de la festa dels Tres Tombs de Vilanova i La Geltrú\, i Andreu Bernadàs\, president de la Federació Catalana dels Tres Tombs i de la Federació dels Tres Tombs de Sant Antoni de Barcelona. Conduirà l'acte: Xavier Cordomí\, president de l'Associació de Festes de la Plaça Nova.\n Entrada lliure\, aforament limitat.\nLa xerrada comptarà amb servei d’interpretació de Llengua de Signes Catalana.\nLa Casa dels Entremesos\, plaça de les Beates\, 2 – 08003 Barcelona (metro Jaume I o Urquinaona).\n
URL:https://www.bestiari.cat/esdeveniment/xerrada-de-sant-antoni-a-la-casa-dels-entremesos/
LOCATION:Plaça de les Beates\, 2\, Barcelona\, Barcelona\, 08003\, Espanya
CATEGORIES:Activitats associats,Barcelona Ciutat,Territorials
END:VEVENT
END:VCALENDAR