BEGIN:VCALENDAR
VERSION:2.0
PRODID:-//Agrupació del Bestiari Festiu i Popular de Catalunya - ECPv4.5.3//NONSGML v1.0//EN
CALSCALE:GREGORIAN
METHOD:PUBLISH
X-WR-CALNAME:Agrupació del Bestiari Festiu i Popular de Catalunya
X-ORIGINAL-URL:https://www.bestiari.cat
X-WR-CALDESC:Events for Agrupació del Bestiari Festiu i Popular de Catalunya
BEGIN:VEVENT
DTSTART;TZID=UTC+1:20250823T173000
DTEND;TZID=UTC+1:20250825T200000
DTSTAMP:20260424T081628
CREATED:20250817T143733Z
LAST-MODIFIED:20250818T155946Z
UID:27363-1755970200-1756152000@www.bestiari.cat
SUMMARY:FM l'Arboç
DESCRIPTION:FM l'Arboç\nArriba la Festa Major a l'Arboç i amb ella... el cercavila i l'exhibició folklòrica del Seguici popular i tradicional:\n\n\n \tDissabte 23 a 2/4 de 6 de la tarda (17.30h)\n \tDiumenge 24 a 1/4 de 12h del migdia (11.15h)\n \tDiumenge 24 a 2/4 de 7 de la tarda (18.30h)\n \tDiumenge 24 a 1/4 d'11h de la nit Auto sacramental i Carretillada (22.15h)\n\nDilluns 25 - Festa Major dels Petits\nCercavila i exhibició folklòrica a 1/4 de 12 del migdia i a les 6h de la tarda. (11.15h i 18h)\nBona Festa Major!\nAquí podeu trobar el programa: https://www.instagram.com/p/DNV9bTYo7jS/?img_index=10&igsh=d2c5MmN5Z2J3ajZ5\n 
URL:https://www.bestiari.cat/esdeveniment/fm-larboc/
LOCATION:43720 \, Espanya
CATEGORIES:Activitats associats,Penedès-Garraf,Territorials
END:VEVENT
BEGIN:VEVENT
DTSTART;TZID=UTC+1:20250823T183000
DTEND;TZID=UTC+1:20250830T020000
DTSTAMP:20260424T081628
CREATED:20250816T152310Z
LAST-MODIFIED:20250816T152310Z
UID:27351-1755973800-1756519200@www.bestiari.cat
SUMMARY:Festa Major de Blancs i Blaus de Granollers
DESCRIPTION:Festa Major de Blancs i Blaus de Granollers\n\nDel 23 al 31 d’agost arriba la Festa Major de Blancs i Blaus de Granollers! Us detallem a continuació els actes en què hi participarà la Mulassa:\n\n \tDissabte\, 23 d’agost - Plaça de Can Monic\n\n18.30 h – Arriba la Mulassa\, arriba la Festa Major! La Mulassa visita el barri de Can Monic.\n\n \tDijous\, 28 d’agost - Plaça de la Porxada\n\n18.00 h – Cerimònia del Pregó: Tronada i cercavila amb els elements festius de la ciutat.\n19.00 h – Entrada a plaça de la cercavila i ball de la Mulassa.\n\n \tDivendres\, 29 d’agost - Plaça de la Casa de Cultura Sant Francesc\n\n23.30 h – La Gran Burrada. Sortida nocturna de la Mulassa amb la xaranga Bandsonats.\nAquest any estrenen la nova beguda de la Mulassa: el Pixat de Burra!\n\nA més\, del 23 al 26 d’agost\, podreu veure la Mulassa exposada al vestíbul de l’Ajuntament.\n\nTrobareu tota la informació de la Festa Major a: www.granollers.cat/festamajor
URL:https://www.bestiari.cat/esdeveniment/festa-major-de-blancs-i-blaus-de-granollers/
LOCATION:Granollers\, Barcelona\, 08401\, Espanya
CATEGORIES:Activitats associats,Territorials,Vallès-Maresme-Barcelonès Nord
END:VEVENT
END:VCALENDAR