BEGIN:VCALENDAR
VERSION:2.0
PRODID:-//Agrupació del Bestiari Festiu i Popular de Catalunya - ECPv4.5.3//NONSGML v1.0//EN
CALSCALE:GREGORIAN
METHOD:PUBLISH
X-WR-CALNAME:Agrupació del Bestiari Festiu i Popular de Catalunya
X-ORIGINAL-URL:https://www.bestiari.cat
X-WR-CALDESC:Events for Agrupació del Bestiari Festiu i Popular de Catalunya
BEGIN:VEVENT
DTSTART;TZID=UTC+1:20250831T231500
DTEND;TZID=UTC+1:20250901T010000
DTSTAMP:20260419T213600
CREATED:20250820T151211Z
LAST-MODIFIED:20250820T151211Z
UID:27393-1756682100-1756688400@www.bestiari.cat
SUMMARY:Correfoc a Alcalà de Xivert
DESCRIPTION:Correfoc a Alcalà de Xivert\n\nEl proper 31 d'agost de 2025\, hi ha Correfoc a Alcalà de Xivert!\n\nOn? Pel Passeig Marruecos\n\nHora? 23.15h\n\nColles Participants:\n\n \tAlcozancos d'Alcalà de Xivert\n \tBall de Dimonis de Vinaròs\n \tBotafocs de Castelló de la Plana\n\n
URL:https://www.bestiari.cat/esdeveniment/correfoc-a-alcala-de-xivert/
LOCATION:12570\, Espanya
CATEGORIES:Activitats associats,País Valencià,Territorials
END:VEVENT
END:VCALENDAR