BEGIN:VCALENDAR
VERSION:2.0
PRODID:-//Agrupació del Bestiari Festiu i Popular de Catalunya - ECPv4.5.3//NONSGML v1.0//EN
CALSCALE:GREGORIAN
METHOD:PUBLISH
X-WR-CALNAME:Agrupació del Bestiari Festiu i Popular de Catalunya
X-ORIGINAL-URL:https://www.bestiari.cat
X-WR-CALDESC:Events for Agrupació del Bestiari Festiu i Popular de Catalunya
BEGIN:VEVENT
DTSTART;TZID=UTC+1:20250902T100000
DTEND;TZID=UTC+1:20251005T140000
DTSTAMP:20260419T135708
CREATED:20250907T145648Z
LAST-MODIFIED:20250907T145749Z
UID:27489-1756807200-1759672800@www.bestiari.cat
SUMMARY:Cavallets... endavant! Els Cavallets cotoners de Barcelona
DESCRIPTION:Cavallets... endavant! Els Cavallets cotoners de Barcelona\n\nA partir del dia 2 de setembre i fins el 5 d’octubre es pot visitar l’exposició Cavallets … endavant!. Els Cavallets Cotoners de Barcelona a la Sala d’actes de La Casa dels Entremesos.\n\n\n\nA la mostra hi trobaràs:\n- Una introducció al món de la imatgeria festiva i dels cavallets a Catalunya\n- Més de 20 quadres amb muntatges fotogràfics i imatges documentades\, des d’auques del s. XVIII fins a fotografies del 2013\n- Tot el context dels balls de cavallets\, turcs i cavallets\, cavallins i cotonines d’arreu del país\n\nA més\, podràs adquirir:\n- Els Cavallets Cotoners de Barcelona — el llibre de Montserrat Garrich sobre la història d’aquesta figura festiva\n- Cavallets per pintar — un quadern d’activitats infantils amb dibuixos\, jocs i explicacions\n\nOn? La Casa dels Entremesos\nQuan? Del 2 de setembre al 5 d’octubre (dilluns tancat)\nDins la programació de La Mercè.\n\nHoraris de La Casa dels Entremesos:\n\n \tDm a Ds (10h-13h i 16h-19h)\n \tDg (11h-14h)\n \tDll (Tancat)\n
URL:https://www.bestiari.cat/esdeveniment/cavallets-endavant-els-cavallets-cotoners-de-barcelona-2/
LOCATION:Plaça de les Beates\, 2\, Barcelona\, Barcelona\, 08003\, Espanya
CATEGORIES:Activitats associats,Barcelona Ciutat,Territorials
END:VEVENT
BEGIN:VEVENT
DTSTART;TZID=UTC+1:20250904T180000
DTEND;TZID=UTC+1:20250908T223000
DTSTAMP:20260419T135708
CREATED:20250903T144019Z
LAST-MODIFIED:20250903T144019Z
UID:27461-1757008800-1757370600@www.bestiari.cat
SUMMARY:FM Sabadell 2025
DESCRIPTION:Festa Major de Sabadell 2025\n\nJa és aquí la Festa Major de Sabadell\, que es celebrarà del 5 al 8 de setembre de 2025. Us deixem el programa complet: Programa de la Festa Major de Sabadell 2025\, i a continuació\, els actes tradicionals:\n\n\n\n \n\n \n\n\n\n\n\n\n\n\n\n\nTrobareu tota la informació al web.sabadell.cat/festamajor\n\nBona Festa Major!
URL:https://www.bestiari.cat/esdeveniment/fm-sabadell-2025/
LOCATION:Sabadell \, Barcelona\, 08201\, Espanya
CATEGORIES:Activitats associats,Territorials,Vallès-Maresme-Barcelonès Nord
END:VEVENT
BEGIN:VEVENT
DTSTART;TZID=UTC+1:20250905T203000
DTEND;TZID=UTC+1:20250906T230000
DTSTAMP:20260419T135708
CREATED:20250905T121204Z
LAST-MODIFIED:20250905T121204Z
UID:27470-1757104200-1757199600@www.bestiari.cat
SUMMARY:FM Viladecans
DESCRIPTION:FM Viladecans\n\nArriba la Festa Major de Viladecans\, i amb ella el Correfoc Juvenil i Adult!\n\nDivendres 5 de Setembre\n\nEl jovent de la colla ja prepara amb ganes la rebuda als @diablesdetorrelles @ciafocgava. El recorregut\, com als anteriors anys\, inicia a Plaça Europa\, passant el carrer Jaume Balmes per enfilar l’Avinguda de la Marina i acabar a la Plaça de la Mediterrània! Esperen veure-us ballant amb el foc dels diablets per començar el cap de setmana com cal!\n\n20.30h Inici Correfoc\n\nDissabte 6 de Setembre\n\nEls grans tampoc poden perdre’s la gran cita\, com el Correfoc Adult que s’està coent… Dissabte els visiten els @diablescolonia\, els @diablesverneda.guspirestmarti\, el @bitxodeltorrentmitger i la @acpcastelldefels amb el Garigot!\n\nComençaran a la Plaça de la Vila\, recorrent els carrers Jaume Abril\, Sol i Joan Balletbò\, per arribar a la Plaça de les Palmeres\, tornar a Jaume Abril i acabar a Plaça de la Sardana. Dissabte de Festa Major\, dissabte de foc i ritme! Compten amb vosaltres.\n\n21h Inici Correfoc\n\nBona Festa Major!\n\nUs deixem els cartells:\n\n 
URL:https://www.bestiari.cat/esdeveniment/fm-viladecans/
LOCATION:Plaça de la Constitució\, Viladecans\, Barcelona\, 08840\, Espanya
CATEGORIES:Activitats associats,Baix Llobregat i L'Hospitalet,Territorials
END:VEVENT
BEGIN:VEVENT
DTSTART;TZID=UTC+1:20250906T100000
DTEND;TZID=UTC+1:20250927T233000
DTSTAMP:20260419T135708
CREATED:20250914T154333Z
LAST-MODIFIED:20250914T154333Z
UID:27562-1757152800-1759015800@www.bestiari.cat
SUMMARY:La Mercè 2025 i Bestiari
DESCRIPTION:El projecte “The Worker Becomes Queen”\, nascut a Manchester i desenvolupat conjuntament amb colles de bestiari de Barcelona\, és la gran novetat de la programació de Bestiari d’aquesta edició\nDel 6 al 26 de setembre de 2025\, Bestiari porta la cultura popular al Born Museu d’Història de Barcelona durant La Mercè amb exposicions\, jocs i un Diàleg Bestial amb Manchester\n\n\nUn any més\, El Born. Museu d’Història de Barcelona i el barri de La Ribera tornaran a ser el centre neuràlgic de la Cultura Popular durant les Festes de La Mercè. Del 6 al 27 de setembre\, l’Agrupació de Bestiari Festiu de Barcelona proposa un programa que combina tradició\, innovació i reflexió: exposicions\, jornades lúdiques\, tallers\, visites guiades i la tradicional Passejada de Bèsties.\n\nBestiari ha organitzat un munt d’activitats per a tots els públics que giraran al voltant de les Bèsties i les colles de la territorial de Barcelona i tindran com a punt de referència la inclusió\, la cohesió i una visió feminista\, objectius principals de l’agrupació. \nExposicions a El Born Museu d’Història de Barcelona\nDel 6 al 27 de setembre de 2025 es podran visitar dues exposicions de manera totalment gratuïta. Com ja és tradició\, El Born Museu d’Història de Barcelona serà la seu de l’Exposició de Bèsties\, una mostra en la qual s’hi representen més d’una setantena de bèsties dels barris de la ciutat i on comencen a calentar motors abans de participar a la passejada de bèsties i al correfoc de La Mercè. \n\nAl vestíbul d’El Born Museu d’Història de Barcelona s’hi podrà veure una mostra floral realitzada pel Taller d'ocupació de Barcelona per la Natura de Barcelona Activa de l’especialitat de Decoració en Art Floral. En aquesta ocasió\, per homenatjar la ciutat convidada per la Mercè\,  Manchester\, l'alumnat ha elaborat una instal·lació de natura i Roselles\, unes flors de paper\, convertida des de la dècada dels anys 20 en tot un símbol d'Anglaterra i les seves tradicions.\nVisites guiades inclusives i educatives de les exposicions\nL’Agrupació de Bestiari sempre treballa per fer que la cultura popular sigui el més inclusiva possible. És per aquest motiu que les visites guiades seran adaptades per a persones amb diversitat funcional\, escoles i residències de gent gran\, així com cartelleria en braille. El Cau de les Bèsties obrirà portes en horaris especials amb inscripció prèvia.\n\nPer tal d’utilitzar altres llenguatges més visuals i atractius\, se celebrarà la tradicional Nit al Cau de les Bèsties\, una activitat adreçada a tots els públics que consisteix en una visita nocturna teatralitzada per donar a conèixer les figures de bestiari de Barcelona. A través d’un recorregut\, diferents actors explicaran les històries i anècdotes del bestiari barceloní amb l’acompanyament d’efectes sonors i un espectacle de llum i música. Les visites tindran lloc els dies 16 i 18 de setembre de 2025 i cal fer inscripció prèvia aquí. \nManchester i Barcelona creen bèsties festives amb mirada feminista per a La Mercè\nBarcelona serà l’escenari de l’estrena oficial de The Worker Becomes Queen\, un projecte artístic internacional que combina escultura monumental\, música original i dansa comunitària per explicar una història de treball\, transformació i orgull col·lectiu. La iniciativa\, comissionada per a La Mercè 2025\, és fruit de la col·laboració entre Global Grooves (Greater Manchester) i l’Ajuntament de Barcelona\, amb el suport de la Federació Agrupació del Bestiari Festiu i Popular de Catalunya.\n\nEl projecte “The Worker Becomes Queen” és la gran novetat de la programació de Bestiari per La Mercè 2025. Aquestes obres s’han creat a través d’un intercanvi internacional entre artistes del Gran Manchester i Catalunya. La iniciativa ha unit artesans\, colles i comunitats per crear noves bèsties festives amb una forta càrrega simbòlica i feminista. Entre els artistes catalans trobem a la Dolors Sans i al Pau Reig. En aquest enllaç es pot descobrir tot el procés. \n\nThe Worker Becomes Queen ret homenatge a les dones com a líders culturals\, treballadores i organitzadores al llarg de la història. La Reina Abella s’inspira en les Cotton Queens de l’època industrial\, en figures del moviment sufragista i sindical com Emmeline Pankhurst (Manchester)\, Teresa Claramunt i Clara Campoamor (Catalunya) o Princess Sophia Duleep Singh (Índia i Regne Unit). Aquestes dones van desafiar la injustícia als seus carrers\, fàbriques i parlaments\, impulsant els drets de les dones i les treballadores a través de l’acció\, l’art i la voluntat col·lectiva.\n“Amb aquest projecte volem demostrar que la cultura popular és també un espai de transformació social i de reivindicació feminista\, capaç de crear nous imaginaris col·lectius”\, ha destacat l’Agrupació de Bestiari. \n\n\nDiàleg Bestial: Les abelles\, símbol de Manchester\, visiten la Mercè 2025\nEl programa d’enguany inclou el Diàleg Bestial el divendres 26 de setembre a les 19 h a la Sala Moragues del Born. Les abelles\, símbol emblemàtic de Manchester —ciutat convidada de la Mercè 2025—\, han arribat a la Festa Major de Barcelona i s’han integrat meravellosament a les nostres tradicions populars. Durant diversos moments de la Mercè tradicional\, com la Cavalcada o la Passejada de Bèsties de Foc\, es podran veure les dues figures creades especialment per a aquesta edició: la geganta Bee i la bèstia Bee.\n\nAmb motiu d’aquesta col·laboració\, l’Agrupació del Bestiari Festiu i Popular de Catalunya organitza una taula rodona amb els artesans anglesos de Global Grooves i els creadors catalans Pau Reig i Dolors Sans. En aquest espai de diàleg compartiran les seves experiències a Manchester i reflexionaran sobre com es viu i s’expressa la cultura popular als dos països a través d’aquestes dues noves figures.\nJornada Lúdico Bestial i 5a Fira de Colles de Bestiari\nEl dissabte 20 de setembre de 10 h a 14 h a la plaça Comercial\, tindrà lloc La Jornada Lúdico Bestial 2025 que enguany acollirà la 5a Fira de Colles de Bestiari\, en la qual les diferents entitats podran mostrar algunes de les seves bèsties i oferir informació i marxandatge al públic assistent. \n\nLa matinal de jocs de Bestiari es consolida com un dels esdeveniment lúdics importants de la ciutat durant la Jornada Lúdico Bestial. Una ocasió en que bèsties i jocs es troben\, dialoguen i sobretot juguen. Els infants i els adults que vinguin a la plaça Comercial\, podran gaudir d’un matí bestialment lúdic i amb xocolata de la mà de la Companyia de Jocs l’Anònima i el Museu de la Xocolata\, que se suma a la Jornada per segon any consecutiu. Pel dissabte 20 de setembre\, proposen una estesa de jocs per la plaça Comercial i un parell de jocs al Museu de la Xocolata. El públic podrà participar o bé de manera lliure o bé participar d’una gimcana amb premi final!\n\nDurant tot el matí\, el programa de ràdio Fes Ta Festa\, liderat per Amadeu Carbó\, proposa entrevistes i xerrades amb convidats del món de la Cultura Popular. Durant el programa especial del Fes Ta Festa\, es podran escoltar músiques i informacions bestials\, així que si voleu saber què passarà\, seguiu-lo en directe al Canal Youtube de Bestiari i al Facebook del Fes ta festa.  \n\n\n\nPer acabar de vestir la Jornada\, les colles de bestiari de la ciutat oferiran diversos tallers i una cercavila pels voltants del barri de la Ribera que començarà a les 13 h.\n\nL’Agrupació Bestiari segueix amb l’objectiu que totes les activitats siguin inclusives. En aquesta ocasió\, totes les activitats tindran intèrpret de llengua de signes\, així com també\, continuem amb l’adaptació de la cartelleria expositiva en braille.\nPresentació del Protocol d’Agressions sexistes de la Generalitat de Catalunya\nEl dijous 25 de setembre a les 19 h\, a la sala Moragues del Born\, es presentarà el Protocol d’abordatge de les violències masclistes i per raó d’orientació sexual\, identitat i expressió de gènere en les activitats de cultura popular de la Generalitat.\nPassejada de Bèsties i correfoc\nDivendres 26 de setembre al vespre\, les bèsties exposades al Born Museu d’Història de Barcelona prendran vida i faran una primera passejada pels carrers del barri Gòtic\, on podreu veure a totes les bèsties en moviment i lluint-se. \n\nLa plantada de totes les bèsties tindrà lloc a la plaça Comercial a les 20 h i a partir de les 21.30 h començarà la Passejada de Bèsties 2025. El recorregut de la Passejada de Bèsties serà circular\, començant a la Plaça Comercial\, Passeig del Born\, carrer Santa Maria\, carrer Argenteria\, carrer Princesa\, carrer Comerç i finalitzarà a la Plaça Comercial.\n\n\n\nLes activitats finalitzaran amb l’esperat Correfoc de La Mercè el dissabte 27 de setembre que sortirà des de Passeig de Gràcia. El correfoc infantil engegarà a les 18.30 h i l’adult a les 20.30 h.\n\nPodeu trobar tota la informació de La Mercè 2025 aquí
URL:https://www.bestiari.cat/esdeveniment/la-merce-2025-i-bestiari/
LOCATION:Barcelona\, Espanya
CATEGORIES:Activitats associats,Barcelona Ciutat,Territorials
ORGANIZER;CN="Agrupaci%C3%B3%20del%20Bestiari%20Festiu%20i%20Popular%20de%20Catalunya":MAILTO:info@bestiari.cat
END:VEVENT
BEGIN:VEVENT
DTSTART;TZID=UTC+1:20250906T170000
DTEND;TZID=UTC+1:20250906T200000
DTSTAMP:20260419T135708
CREATED:20250902T121018Z
LAST-MODIFIED:20250902T140530Z
UID:27443-1757178000-1757188800@www.bestiari.cat
SUMMARY:XXV Trobada de Bèsties de Foc a Vila-real
DESCRIPTION:XXV Trobada de Bèsties de Foc a Vila-real \n\nEl proper 6 de setembre de 2025\, es celebrarà la XXV Trobada de Bèsties de Foc a Vila-real! Els tocs i balls de la cultura popular a la Pl. Major i voltants.\n\n\n\n\n\n \n\n \n\n \n\n \n\n \n\n \n\n \n\n \n\n \n\n17h a 18h - Plantada de Bestiari i mostra musical\n\n18h - 18.15h - Benvinguda i lliurament detalls\n\n18.15h - 18.30h - Tabalada i tocs populars de les entitats\n\n18.30h - 19.15h - Cercavila de figures i músics\n\n19.15h -20h - Ball i espurnes a tot arreu. Remat final\n\n \n\nColles Participants\n\n \tLluert\n\n\n\n \n\n \n\n \n\n \n\n \n\n \tBestiari Infantil Botafocs\n\n\n\n \n\n \n\n \n\n \n\n \n\n \n\n \n\n \tAlcozancos\n\n\n\n \n\n \n\n \n\n \n\n \n\n \tSenglar Murri\n\n\n\n \n\n \n\n \n\n \n\n \n\n \n\n \n\nBona Trobada!\n\nUs deixem el vídeo de l'edició del 2024:\n\nhttps://www.youtube.com/watch?v=MBqxv7Q17iY
URL:https://www.bestiari.cat/esdeveniment/xxv-trobada-de-besties-de-foc-a-vila-real/
LOCATION:Barcelona\, 12540\, Espanya
CATEGORIES:Activitats associats,País Valencià,Territorials
END:VEVENT
BEGIN:VEVENT
DTSTART;TZID=UTC+1:20250906T214500
DTEND;TZID=UTC+1:20250906T214500
DTSTAMP:20260419T135708
CREATED:20250905T161025Z
LAST-MODIFIED:20250905T161025Z
UID:27474-1757195100-1757195100@www.bestiari.cat
SUMMARY:Correfoc FM Santa Coloma Gramenet
DESCRIPTION:Correfoc FM Santa Coloma Gramenet\n\nEl proper 6 de setembre arriba el CORREFOC FESTA MAJOR A SANTA COLOMA DE GRAMENE!!\n\nAquest correfoc de Festa Major ve carregat de pòlvora i aniversaris! La Colla de Draconaires celebra com cal els 35 anys del Blai i els 20 de la Nel•la. No hi falteu\, que la festa promet!\n\nA les 22h.\n\nColles participants:\n\n \tColla del Drac de les Roquetes @dragona_lesroquetes\n \tDrac Rifenyo de Sant Just @drac.santjust\n \tGrup de Foc de 9 Barris @grupdefocdenoubarris\n \tDrac de Reus @drac_de_reus\n \tColla Vella de Diables de Santa Coloma @collavelladiablesntk\n \tBruixes de Gramenet @bruixesdegramenet\n \tDraconaires de Santa Coloma\n\nRecorregut del correfoc:\n\nPompeu Fabra → Av. Santa Coloma → Mossèn Jacint Verdaguer → Parc Can Peixauet\n\nBona Festa Major!\n\n
URL:https://www.bestiari.cat/esdeveniment/correfoc-fm-santa-coloma-gramenet/
LOCATION:Santa Coloma de Gramenet\, Barcelona\, 08920\, Espanya
CATEGORIES:Activitats associats,Territorials,Vallès-Maresme-Barcelonès Nord
END:VEVENT
END:VCALENDAR