BEGIN:VCALENDAR
VERSION:2.0
PRODID:-//Agrupació del Bestiari Festiu i Popular de Catalunya - ECPv4.5.3//NONSGML v1.0//EN
CALSCALE:GREGORIAN
METHOD:PUBLISH
X-WR-CALNAME:Agrupació del Bestiari Festiu i Popular de Catalunya
X-ORIGINAL-URL:https://www.bestiari.cat
X-WR-CALDESC:Events for Agrupació del Bestiari Festiu i Popular de Catalunya
BEGIN:VEVENT
DTSTART;VALUE=DATE:20260114
DTEND;VALUE=DATE:20270107
DTSTAMP:20260421T225626
CREATED:20260115T164309Z
LAST-MODIFIED:20260115T164309Z
UID:28103-1768348800-1799366399@www.bestiari.cat
SUMMARY:Exposició Mitologia Catalana 2026
DESCRIPTION:Exposició Mitologia Catalana 2026\n\nExposició sobre mitologia catalana. L'exposició troncal de la cinquena edició del Festival 42 itinera per les biblioteques de la ciutat.\n\nLa mitologia catalana és una font rica de narracions i personatges\, malgrat que durant molts anys hagi quedat en un segon pla\, eclipsada per altres mitologies com la nòrdica o la celta. De fet\, els autors actuals de gènere fantàstic estan trobant en els relats de transmissió oral d’arreu del territori català la inspiració per escriure noves històries i per reinterpretar aquest imaginari.\n\nEn l’exposició troncal de la cinquena edició del 42 hi trobareu una quinzena dels personatges més populars i arrelats del folklore català\, amb les característiques que els vinculen en el marc literari global. Des de Joan de l’Os\, que ens acosta a les ficcions de superherois americanes\, fins a les llegendes del Serpent\, que ens recorden Bola de Drac\, passant per les espases constel·lades\, que ens vinculen amb les històries del Cicle Artúric. Tot plegat\, a través de les il·lustracions de Laia Baldevey\, comissària de la mostra i experta a plasmar la mitologia en imatges. Entre les seves obres destaca Mitologia dels Països Catalans i Mitologia de la muntanya de Montserrat. La proposta també recull material del bestiari català\, cedit per entitats de cultura popular.\n\n\n\nItinerància:\n\n \tBiblioteca Joan Miró\nDel 14 de gener al 20 de març de 2026\n \tBiblioteca Barceloneta - La Fraternitat\nDel 24 de març al 29 d’abril de 2026\n \tBiblioteca El Carmel-Juan Marsé\nDel 2 de maig al 10 de juliol de 2026\n \tBiblioteca Guinardó Mercè Rodoreda\nDel 15 de juliol al 11 de setembre de 2026\n \tBiblioteca Montserrat Abelló\nDel 15 de setembre al 13 de novembre de 2026\n \tBiblioteca Collserola\nDel 13 de novembre de 2026 al 7 de gener de 2027\n
URL:https://www.bestiari.cat/esdeveniment/exposicio-mitologia-catalana-2026/
LOCATION:Espanya
CATEGORIES:Activitats pròpies,Barcelona Ciutat,Territorials
ORGANIZER;CN="Agrupaci%C3%B3%20del%20Bestiari%20Festiu%20i%20Popular%20de%20Catalunya":MAILTO:info@bestiari.cat
END:VEVENT
BEGIN:VEVENT
DTSTART;VALUE=DATE:20260314
DTEND;VALUE=DATE:20260323
DTSTAMP:20260421T225626
CREATED:20260316T170503Z
LAST-MODIFIED:20260316T170503Z
UID:28438-1773446400-1774310399@www.bestiari.cat
SUMMARY:Festes de Sant Josep Oriol 2026
DESCRIPTION:Les Festes de Sant Josep Oriol tornen al barri del Pi aquest 2026. Del 14 al 23 de març\, el barri celebrarà la seva festa major amb activitats per a tots els públics\, novetats al programa i la participació de grups convidats d’arreu del país. Enguany\, a més\, la celebració coincideix amb una efemèride destacada: els 425 anys dels Gegants del Pi.\nEn destaquem:\n\n \tEl diumenge 15 se celebrarà “Bestieses. Els convidats del Lleó i la Mulassa de Barcelona”. En aquesta edició\, el Lleó convidarà l’Àliga d’Igualada\, que rarament surt de la seva ciutat\, mentre que la Mulassa rebrà el Bou de Gràcia\, una bèstia estrenada recentment.\n \tDivendres 20 a la tarda hi haurà la cercavila infantil amb la participació de les escoles del barri i de tots els infants que vulguin portar el seu gegantet\, bèstia o capgròs. A la nit tindran lloc l’Emmulassa’t!\, un dels actes més festius del programa\, i el Ball de Festa Major amb DJ Kylans.\n \tDiumenge 22\, vigília de Sant Josep Oriol\, les Matinades amb gralles i tabals despertaran el barri. A partir de les deu del matí\, la plaça de Sant Josep Oriol començarà a omplir-se amb la presència de gegants\, bèsties\, capgrossos i balls tradicionals arribats d’arreu de Catalunya. A les 11.30 h es faran diverses mostres de ball i\, a les 12 h\, sortirà la Cercavila de Festa Major.\n\nLa programació completa es pot consultar al web www.gegantsdelpi.cat.\n\nLlegeix l'article complet amb totes les activitats:\n\nhttps://www.bestiari.cat/2026/03/el-barri-del-pi-celebra-les-festes-de-sant-josep-oriol-amb-una-edicio-marcada-pels-425-anys-dels-gegants-del-pi/
URL:https://www.bestiari.cat/esdeveniment/festes-de-sant-josep-oriol-2026/
LOCATION:Barcelona\, Barcelona\, 08002\, Espanya
CATEGORIES:Activitats associats,Barcelona Ciutat,Territorials
END:VEVENT
BEGIN:VEVENT
DTSTART;TZID=UTC+1:20260317T173000
DTEND;TZID=UTC+1:20260508T193000
DTSTAMP:20260421T225626
CREATED:20260224T181337Z
LAST-MODIFIED:20260318T154504Z
UID:28360-1773768600-1778268600@www.bestiari.cat
SUMMARY:Activitats a la Nova Seu de Bestiari
DESCRIPTION:La cultura popular\, protagonista a la Seu de Bestiari aquesta primavera\n\nLa Seu de Bestiari (C/ Nou\, 27 · Sant Vicenç dels Horts) acollirà aquesta primavera diverses activitats adreçades al públic infantil amb l’objectiu d’apropar la cultura popular catalana als més petits. La programació inclou un cicle de contacontes i un taller de música i dansa tradicionals\, amb places limitades i inscripció prèvia.\nConta Contes Bestial\nEl cicle Conta Contes Bestial proposa tres sessions pensades per a diferents franges d’edat\, amb històries vinculades a l’imaginari festiu i tradicional.\n\n \tLa primera sessió tindrà lloc el 17 de març a les 17.30 h\, amb El Xumet de Foc i un Pipí Gegant\, narrat pel seu autor\, Amadeu Carbó. L’activitat està recomanada per a infants d’1 a 5 anys.\n \tEl 10 d’abril a les 17.30 h serà el torn de De gran vull ser… Diable!\, a càrrec de Vivim del Cuentu\, adreçat a infants de 5 a 7 anys.\n \tFinalment\, el 8 de maig a les 17.30 h\, també amb Vivim del Cuentu\, es presentarà De gran vull ser… Gegantera!\, recomanat per a nens i nenes de 5 a 7 anys.\n\n\n\n \nTaller de música i dansa tradicionals amb Ivan Caro\nLa programació es completa amb el Taller de música i dansa tradicionals amb Ivan Caro\, que se celebrarà el 18 de març a les 17.30 h. L’activitat està adreçada a infants de 8 a 11 anys.\n\nDurant el taller\, els participants descobriran instruments\, cançons i danses catalanes i pirinenques en una sessió pràctica i participativa\, pensada per fomentar el coneixement i la vivència directa de la música tradicional.\n\n\nInscripcions\nTotes les activitats es realitzaran a la Seu de Bestiari i tenen places limitades\, per la qual cosa és necessari fer inscripció prèvia a través del formulari habilitat per l’organització.\n\n \tEnllaç del formulari del Taller de música i dansa tradicionals: https://forms.gle/iScqFkRRkhksCiNHA\n \tEnllaç formulari del Conta Contes Bestial: https://docs.google.com/forms/d/e/1FAIpQLScsZ54ey7a0tcmq_VMyPoN_eZvoj3tnIGBzkmQRJWrWkxz3ig/viewform\n\nAmb aquesta programació\, la Seu de Bestiari consolida la seva aposta per la divulgació i transmissió de la cultura popular entre els més joves\, oferint propostes adaptades a diferents edats i formats.
URL:https://www.bestiari.cat/esdeveniment/activitats-a-la-nova-seu-de-bestiari/
LOCATION:C/ Nou\, 27\, Sant Vicenç dels Horts \, Espanya
CATEGORIES:Activitats pròpies,Baix Llobregat i L'Hospitalet,Territorials
END:VEVENT
BEGIN:VEVENT
DTSTART;TZID=UTC+1:20260321T103000
DTEND;TZID=UTC+1:20260321T235900
DTSTAMP:20260421T225626
CREATED:20260316T164708Z
LAST-MODIFIED:20260316T164708Z
UID:28429-1774089000-1774137540@www.bestiari.cat
SUMMARY:Cebafoc 2026 a Sabadell
DESCRIPTION:Cebafoc 2026 a Sabadell\nArriba un any més el Cebafoc\, la festa de les colles de foc de Sabadell! Enguany\, la festa organitzada per les Bruixes del Nord\, les Forques de Can Deu i els Sentinelles d'Arkëmis\, celebra la seva onzena edició. Aquestes 3 entitats sense ànim de lucre que veuran un cop més fer fer-se realitat tots els seus esforços el proper dissabte 21 de març.\n\n\n\nCartell del Cebafoc 2026. Dissenyat per @xulaxuls.\n\n\n\nLloc: Plaça Sant Roc\, Pl. Doctor Robert i carrers del voltant\n\nHorari:\n10.30 h Llegenda de la Ceba de Foc\n11.00 h Despertar de la Ceba (correfoc infantil)\n11.30 h Tallers Infantils\nSeguidament la Cebatraca\n12.00 h Concert infantil amb Jaume Barri\n13.00 h Concert vermut Shaggys Band\n\nDesprés de dinar\n16.00 h Plantada de bèsties\n16 h Concert DJ ZERO\n17.00 h Concert DJ BIGVIC\n18.00 h Trobada de percussió\n19.30 h Cercavila del Foc. Inici Pl. Imperial.\nEncesa de la Ceba de Foc. Invocació de les colles. Correfoc i Cercle de foc\n22.00 h fins les 00.00 h Concert amb l'Orquestra Mitjanit\n\n\n\n
URL:https://www.bestiari.cat/esdeveniment/cebafoc-2026-a-sabadell/
LOCATION:Sabadell \, Barcelona\, 08201\, Espanya
CATEGORIES:Activitats associats,Territorials,Vallès-Maresme-Barcelonès Nord
END:VEVENT
BEGIN:VEVENT
DTSTART;TZID=UTC+1:20260321T103000
DTEND;TZID=UTC+1:20260321T133000
DTSTAMP:20260421T225626
CREATED:20260318T154437Z
LAST-MODIFIED:20260318T154437Z
UID:28444-1774089000-1774099800@www.bestiari.cat
SUMMARY:Portes Obertes a la Nova Seu de Bestiari
DESCRIPTION:Portes Obertes a la Nova Seu de Bestiari\n\nAquest dissabte 21 de març us esperem a la Jornada de Portes Obertes de la nova seu de Bestiari! Serà una bona oportunitat per conèixer l’espai\, descobrir els projectes que hi impulsem i compartir una bona estona.\n\n \tHorari: de 10.30 h a 13.30 h\n \tAdreça: C/ Nou\, 27\, Sant Vicenç dels Horts\n\nNo hi falteu!\n\n
URL:https://www.bestiari.cat/esdeveniment/portes-obertes-a-la-nova-seu-de-bestiari/
LOCATION:Plaça de la Vila\, Sant Vicenç dels Horts \, 08620\, Espanya
CATEGORIES:Activitats pròpies,Baix Llobregat i L'Hospitalet,Territorials
END:VEVENT
BEGIN:VEVENT
DTSTART;TZID=UTC+1:20260321T120000
DTEND;TZID=UTC+1:20260321T220000
DTSTAMP:20260421T225626
CREATED:20260318T153921Z
LAST-MODIFIED:20260318T153921Z
UID:28441-1774094400-1774130400@www.bestiari.cat
SUMMARY:II Corretorrent a Terrassa
DESCRIPTION:II Corretorrent a Terrassa\n\nEstigueu atents perquè el dissabte 21 de Març la colla del Bitxo del Torrent Mitger celebra el 2n Corretorrent! Tindran el plaer de comptar amb Cabrons i Bruixes de Centelles\, Drac\, Diables i Gegantes de la Sagrera i  AV Poble Nou Zona Esportiva ‘La Sosi’.\n\n \t12h Balls de Lluïment del Bitxo - Pl. de la Cultura\n \t12.30h Tallers Infantils - Pl. de la Cultura\n \t13h Botifarrada - Pl. de la Cultura\n \t17h Presentació Colles Convidades - Pl. de la Cultura\n \t18.30h Tabalada - Passatge del Torrent Mitger\n \t18.45h - Cercavila de Toc i Llum - Fins Ronda de Ponent\n \t19h Enceses Individuals - Fins Monòlit del Bitxo (C/Terque)\n \t19.30h Corretorrent - Riera de Palau\n\n\n\n 
URL:https://www.bestiari.cat/esdeveniment/ii-corretorrent-a-terrassa/
CATEGORIES:Activitats associats,Territorials,Vallès-Maresme-Barcelonès Nord
END:VEVENT
BEGIN:VEVENT
DTSTART;TZID=UTC+1:20260321T163000
DTEND;TZID=UTC+1:20260321T223000
DTSTAMP:20260421T225626
CREATED:20260309T155347Z
LAST-MODIFIED:20260309T155509Z
UID:28408-1774110600-1774132200@www.bestiari.cat
SUMMARY:Espectacle inaugural del 20è aniversari de la Festa del Serpent
DESCRIPTION:Espectacle inaugural del 20è aniversari de la Festa del Serpent\nAquest any la FESTA DEL SERPENT DE MANLLEU celebra el seu 20è aniversari  i per commemorar-ho el proper 21 de març faran l’espectacle inaugural al Teatre Municipal de la ciutat.\nEL SERPENT: veus d’un riu que recorden us espera al Teatre municipal de Manlleu en 3 franges horàries: 16.30 h / 18.30 h / 20.30 h (3 representacions)\nReserva la teva entrada a manlleuentrades.cat (aportació d’1 €)\n \n
URL:https://www.bestiari.cat/esdeveniment/espectacle-inaugural-del-20e-aniversari-de-la-festa-del-serpent/
LOCATION:Carrer del Pont\, 9\, Manlleu\, Barcelona\, 08560 
CATEGORIES:Activitats associats,Comarques Centrals,Territorials
END:VEVENT
BEGIN:VEVENT
DTSTART;TZID=UTC+1:20260321T180000
DTEND;TZID=UTC+1:20260321T233000
DTSTAMP:20260421T225626
CREATED:20260316T165516Z
LAST-MODIFIED:20260316T165516Z
UID:28434-1774116000-1774135800@www.bestiari.cat
SUMMARY:L'Esclat del Boc a Tortosa
DESCRIPTION:L'Esclat del Boc a Tortosa\n\nArriba l'Esclat del Boc a Tortosa. La primera trobada únicament de bèsties de foc al barri\, una jornada que combinarà teatre\, música tradicional i foc. L’acte central serà la representació de la llegenda del Boc Jordiet i la seva despertada després d’un llarg descans\, seguida d’una cercavila amb tram inclusiu i tram de foc\, i un espectacle final d’enceses amb música en directe.\n\nCelebrem els 40 anys dels Diables Llampec Nois i els 20 anys del Boc Jordiet. Us hi esperem!\n\nOn? Plaça de Joan Monclús\, 1\, 43500 Tortosa\, Tarragona\n\nHoraris:\n– 18:00 Activitats infantils\n– 19:30 Espectacle "L'Esclat del Boc"\nConeix la història del Boc com no l'han contat mai\n– 20:00 Correfoc pels carrers del barri\n– 21:00 Enceses finals\n– 22:00 Sopar i Concert TRADIXARANGA amb A Mig Camí\n\nEl Boc Jordiet estarà acompanyat enguany per... descobreix més informació al seu Instagram! @llampecnois\n\n
URL:https://www.bestiari.cat/esdeveniment/lesclat-del-boc-a-tortosa/
LOCATION:Parc Lluís Companys\, 43500 Ferreries\, Tortosa\, Tortosa\, 43500 \, Espanya
CATEGORIES:Activitats associats,Terres de l'Ebre-Maestrat,Territorials
ORGANIZER;CN="Diables%20Llampec%20Nois":MAILTO:diables@llampecnois.cat
END:VEVENT
END:VCALENDAR