BEGIN:VCALENDAR
VERSION:2.0
PRODID:-//Agrupació del Bestiari Festiu i Popular de Catalunya - ECPv4.5.3//NONSGML v1.0//EN
CALSCALE:GREGORIAN
METHOD:PUBLISH
X-WR-CALNAME:Agrupació del Bestiari Festiu i Popular de Catalunya
X-ORIGINAL-URL:https://www.bestiari.cat
X-WR-CALDESC:Events for Agrupació del Bestiari Festiu i Popular de Catalunya
BEGIN:VEVENT
DTSTART;VALUE=DATE:20260114
DTEND;VALUE=DATE:20270107
DTSTAMP:20260425T203827
CREATED:20260115T164309Z
LAST-MODIFIED:20260115T164309Z
UID:28103-1768348800-1799366399@www.bestiari.cat
SUMMARY:Exposició Mitologia Catalana 2026
DESCRIPTION:Exposició Mitologia Catalana 2026\n\nExposició sobre mitologia catalana. L'exposició troncal de la cinquena edició del Festival 42 itinera per les biblioteques de la ciutat.\n\nLa mitologia catalana és una font rica de narracions i personatges\, malgrat que durant molts anys hagi quedat en un segon pla\, eclipsada per altres mitologies com la nòrdica o la celta. De fet\, els autors actuals de gènere fantàstic estan trobant en els relats de transmissió oral d’arreu del territori català la inspiració per escriure noves històries i per reinterpretar aquest imaginari.\n\nEn l’exposició troncal de la cinquena edició del 42 hi trobareu una quinzena dels personatges més populars i arrelats del folklore català\, amb les característiques que els vinculen en el marc literari global. Des de Joan de l’Os\, que ens acosta a les ficcions de superherois americanes\, fins a les llegendes del Serpent\, que ens recorden Bola de Drac\, passant per les espases constel·lades\, que ens vinculen amb les històries del Cicle Artúric. Tot plegat\, a través de les il·lustracions de Laia Baldevey\, comissària de la mostra i experta a plasmar la mitologia en imatges. Entre les seves obres destaca Mitologia dels Països Catalans i Mitologia de la muntanya de Montserrat. La proposta també recull material del bestiari català\, cedit per entitats de cultura popular.\n\n\n\nItinerància:\n\n \tBiblioteca Joan Miró\nDel 14 de gener al 20 de març de 2026\n \tBiblioteca Barceloneta - La Fraternitat\nDel 24 de març al 29 d’abril de 2026\n \tBiblioteca El Carmel-Juan Marsé\nDel 2 de maig al 10 de juliol de 2026\n \tBiblioteca Guinardó Mercè Rodoreda\nDel 15 de juliol al 11 de setembre de 2026\n \tBiblioteca Montserrat Abelló\nDel 15 de setembre al 13 de novembre de 2026\n \tBiblioteca Collserola\nDel 13 de novembre de 2026 al 7 de gener de 2027\n
URL:https://www.bestiari.cat/esdeveniment/exposicio-mitologia-catalana-2026/
LOCATION:Espanya
CATEGORIES:Activitats pròpies,Barcelona Ciutat,Territorials
ORGANIZER;CN="Agrupaci%C3%B3%20del%20Bestiari%20Festiu%20i%20Popular%20de%20Catalunya":MAILTO:info@bestiari.cat
END:VEVENT
BEGIN:VEVENT
DTSTART;TZID=UTC+1:20260317T173000
DTEND;TZID=UTC+1:20260508T193000
DTSTAMP:20260425T203827
CREATED:20260224T181337Z
LAST-MODIFIED:20260318T154504Z
UID:28360-1773768600-1778268600@www.bestiari.cat
SUMMARY:Activitats a la Nova Seu de Bestiari
DESCRIPTION:La cultura popular\, protagonista a la Seu de Bestiari aquesta primavera\n\nLa Seu de Bestiari (C/ Nou\, 27 · Sant Vicenç dels Horts) acollirà aquesta primavera diverses activitats adreçades al públic infantil amb l’objectiu d’apropar la cultura popular catalana als més petits. La programació inclou un cicle de contacontes i un taller de música i dansa tradicionals\, amb places limitades i inscripció prèvia.\nConta Contes Bestial\nEl cicle Conta Contes Bestial proposa tres sessions pensades per a diferents franges d’edat\, amb històries vinculades a l’imaginari festiu i tradicional.\n\n \tLa primera sessió tindrà lloc el 17 de març a les 17.30 h\, amb El Xumet de Foc i un Pipí Gegant\, narrat pel seu autor\, Amadeu Carbó. L’activitat està recomanada per a infants d’1 a 5 anys.\n \tEl 10 d’abril a les 17.30 h serà el torn de De gran vull ser… Diable!\, a càrrec de Vivim del Cuentu\, adreçat a infants de 5 a 7 anys.\n \tFinalment\, el 8 de maig a les 17.30 h\, també amb Vivim del Cuentu\, es presentarà De gran vull ser… Gegantera!\, recomanat per a nens i nenes de 5 a 7 anys.\n\n\n\n \nTaller de música i dansa tradicionals amb Ivan Caro\nLa programació es completa amb el Taller de música i dansa tradicionals amb Ivan Caro\, que se celebrarà el 18 de març a les 17.30 h. L’activitat està adreçada a infants de 8 a 11 anys.\n\nDurant el taller\, els participants descobriran instruments\, cançons i danses catalanes i pirinenques en una sessió pràctica i participativa\, pensada per fomentar el coneixement i la vivència directa de la música tradicional.\n\n\nInscripcions\nTotes les activitats es realitzaran a la Seu de Bestiari i tenen places limitades\, per la qual cosa és necessari fer inscripció prèvia a través del formulari habilitat per l’organització.\n\n \tEnllaç del formulari del Taller de música i dansa tradicionals: https://forms.gle/iScqFkRRkhksCiNHA\n \tEnllaç formulari del Conta Contes Bestial: https://docs.google.com/forms/d/e/1FAIpQLScsZ54ey7a0tcmq_VMyPoN_eZvoj3tnIGBzkmQRJWrWkxz3ig/viewform\n\nAmb aquesta programació\, la Seu de Bestiari consolida la seva aposta per la divulgació i transmissió de la cultura popular entre els més joves\, oferint propostes adaptades a diferents edats i formats.
URL:https://www.bestiari.cat/esdeveniment/activitats-a-la-nova-seu-de-bestiari/
LOCATION:C/ Nou\, 27\, Sant Vicenç dels Horts \, Espanya
CATEGORIES:Activitats pròpies,Baix Llobregat i L'Hospitalet,Territorials
END:VEVENT
BEGIN:VEVENT
DTSTART;VALUE=DATE:20260411
DTEND;VALUE=DATE:20260425
DTSTAMP:20260425T203827
CREATED:20260404T142850Z
LAST-MODIFIED:20260413T153259Z
UID:28475-1775865600-1777161599@www.bestiari.cat
SUMMARY:Botafocs a l'abril del 2026
DESCRIPTION:Botafocs a l'abril del 2026\n\nAquest mes d'abril el bestiari de Botafocs\, Drac\, Vibria i Bestiari infantil participarà en tres actes:\n\n \t11 d'abril - Cercavila. Escala a Castelló. Al Port de Castelló.\n \t18 d'abril - Inauguració actes de la Festa per la Llengua a Vila-real\, a més de tallers.\n \t25 d'abril - Cinquena edició de "Per sant Jordi els dracs a la plaça\, i els cabuts també"\, al Grau de Castelló.\n\n
URL:https://www.bestiari.cat/esdeveniment/botafocs-a-labril-del-2026/
LOCATION:Plaça Les Aules\, Espanya
CATEGORIES:Activitats associats,País Valencià,Territorials
END:VEVENT
BEGIN:VEVENT
DTSTART;TZID=UTC+1:20260418T080000
DTEND;TZID=UTC+1:20260418T170000
DTSTAMP:20260425T203827
CREATED:20260413T155256Z
LAST-MODIFIED:20260413T155256Z
UID:28545-1776499200-1776531600@www.bestiari.cat
SUMMARY:Trobada de Bèsties a Palau-solità i Plegamans
DESCRIPTION:Trobada de Bèsties a Palau-solità i Plegamans\n\nEl 18 d’abril hi ha Mercat Medieval… a Palau-solità i Plegamans\, però espera\, que això només és l’aperitiu.\n\nEl dissabte la cosa s’encén de veritat. Trobada de bèsties + Concurs d’Enceses = espectacle assegurat\n\nUs presentem les bèsties que vindran a fer-la grossa amb l’Abraxas en el seu 10è aniversari:\n\n \tDirectes des de Sant Antoni de Vilamajor… venen amb foc\, festa i zero ganes de passar desapercebuts\n \tDirectes des de Mollet del Vallès … arriben amb més foc que mai i amb ganes de liar-la MOLT PARDA\n \tDes de la Trinitat\, Barcelona… prepareu-vos\, perquè venen amb ganes de foc i festa!\n \tDirectes des de Ripollet el Poll Foll… arriben amb més foc que mai i amb ganes de liar-la MOLT PARDA\n \tDes de Corbera de Llobregat… venen amb el foc corrent per les venes i amb una sola missió: fer tremolar la nit\n \tDes de Granollers la Gralla dels Blaus… porten el foc a la sang\, el caos a les mans i una única missió: fer tremolar cada racó de la nit\n \tDes de Sant Celoni el Drac de Vilardell…arriben amb energia\, foc a les venes i amb moltes ganes de fer tremolar la plaça\n \tDes de Palleja el Droc… arriben amb foc a les venes\n \tAneu seguint les presentacions a @elsdeixebles2012\n\nLa plantada de bèsties es farà a la Plaça de Ca l'Estruch a les 17.30 hores.
URL:https://www.bestiari.cat/esdeveniment/trobada-de-besties-a-palau-solita-i-plegamans-2/
LOCATION:08184\, Espanya
CATEGORIES:Activitats associats,Territorials,Vallès-Maresme-Barcelonès Nord
END:VEVENT
BEGIN:VEVENT
DTSTART;TZID=UTC+1:20260418T110000
DTEND;TZID=UTC+1:20260418T210000
DTSTAMP:20260425T203827
CREATED:20260413T160309Z
LAST-MODIFIED:20260413T161042Z
UID:28548-1776510000-1776546000@www.bestiari.cat
SUMMARY:Fira de Verdú 2026
DESCRIPTION:Fira de Verdú 2026\n\nLa Fira de Verdú és una celebració que recupera l’esperit d’una de les fires més importants de Catalunya\, documentada des de l’any 1378\, quan el rei Pere III en va concedir el privilegi. Durant prop de sis segles\, aquesta fira —centrada en la compravenda d’animals de peu rodó com cavalls\, mules i rucs— va ser el motor econòmic i social de la vila\, configurant-ne el creixement i la vida quotidiana.\n\n\nCartell de la Fira de Verdú 2026\nAvui\, gràcies a la tasca de l’Associació Cultural Xercavins\, la Fira es recupera adaptada als nous temps\, mantenint el seu caràcter festiu i comunitari\, i reivindicant el passat històric de Verdú amb activitats culturals\, tradicionals i populars.\n\nEn aquest context\, el bestiari festiu hi té un paper destacat\, com a expressió viva de la cultura popular catalana. Aquest conjunt de figures zoomòrfiques —reals o fantàstiques— formen part essencial de cercaviles\, balls i celebracions\, connectant la tradició medieval amb les festes actuals.\n\nLa Fira de Verdú del proper dissabte 18 d’abril s’inscriu en aquesta voluntat de recuperació i dinamització cultural\, amb una programació que posa especial èmfasi en el bestiari festiu i en la nova imatgeria vinculada a la vila\, com la Mulassa de Verdú\, creada recentment com a símbol d’aquesta tradició recuperada i homenatge a la històrica fira ramadera.\n\n\nImatge de la Fira de Verdú en la passada edició (2025)\nEntre els actes més destacats amb presència de bestiari festiu cal remarcar:\n\n• 17:00 - Mostra de bestiari festiu\, amb la participació de diverses figures que permetran descobrir la riquesa i diversitat d’aquest element tradicional.\n• 17:15: Espectacle de titelles amb la Mula Baba\, una proposta familiar que combina narració i imaginari festiu.\n• 18:15 - Cercavila pels carrers de Verdú\, on el bestiari recorrerà la vila en un ambient festiu i participatiu.\n• 19:00 - Balls de lluïment\, moment en què les figures mostraran les seves coreografies i elements característics\, posant en valor el treball de les colles.\n\nAixí\, la Fira de Verdú esdevé molt més que una festa: és una mirada al passat per entendre el present\, una celebració col·lectiva i una aposta clara per mantenir viva la cultura popular\, amb el bestiari festiu com a un dels seus grans protagonistes.\n\nUs deixem el PROGRAMA_FIRAVERDÚ_26!
URL:https://www.bestiari.cat/esdeveniment/fira-de-verdu-2026/
LOCATION:25340\, Espanya
CATEGORIES:Activitats associats,Terres de Ponent-Alt Pirineu,Territorials
END:VEVENT
BEGIN:VEVENT
DTSTART;TZID=UTC+1:20260418T110000
DTEND;TZID=UTC+1:20260418T230000
DTSTAMP:20260425T203827
CREATED:20260414T151017Z
LAST-MODIFIED:20260414T151017Z
UID:28557-1776510000-1776553200@www.bestiari.cat
SUMMARY:10è Aniversari de l'Atzeries a Gràcia
DESCRIPTION:10è Aniversari de l'Atzeries a Gràcia\n\nL'Atzeries celebra el seu 10è aniversari! Per aquesta ocasió tan especial\, han organitzat una festa oberta a tot el barri que tindrà lloc el proper 18 d'abril a la plaça de la Virreina. Serà un espai de trobada\, celebració i comunitat que els encantaria compartir amb vosaltres.\n\nHoraris:\n\n \t11h Taller Infantil\n \t12h Vermut\n \t14h Fideuà Popular\n \t16.30h Bingo Musical\n \t18.30h Tabalada\n \t19.45h Presentació 10è Aniversari i Parlaments - es farà un recorregut per aquests deu anys d’història\, experiències i projectes compartits.\n \t20h i 21h Concert i Pd's\n\n\n\n 
URL:https://www.bestiari.cat/esdeveniment/10e-aniversari-de-latzeries-a-gracia/
LOCATION:08012 \, Espanya
CATEGORIES:Activitats associats,Barcelona Ciutat,Territorials
END:VEVENT
BEGIN:VEVENT
DTSTART;TZID=UTC+1:20260418T110000
DTEND;TZID=UTC+1:20260418T140000
DTSTAMP:20260425T203827
CREATED:20260414T152343Z
LAST-MODIFIED:20260414T152343Z
UID:28565-1776510000-1776520800@www.bestiari.cat
SUMMARY:Escape Village a Banyeres del Penedès
DESCRIPTION:Escape Village a Banyeres del Penedès\n\nEl Secret del Drac ja és aquí! El proper 18 d'abril a les 11h (al local del Drac de Banyeres)\, iniciarà l'Escape Village\, on recorrereu els carrers de Banyeres.\n\nEs tracta d'una de les novetats de la Diada del Drac d’enguany\, és una activitat pensada per fer-la amb la familia i els amics. Per fer les inscripcions només heu d’accedir al codi QR. Us hi esperen!\n\nEl Drac us necessita. Només els qui entenguin el seu secret podran protegir-lo.\n\n
URL:https://www.bestiari.cat/esdeveniment/escape-village-a-banyeres-del-penedes/
LOCATION:43711 \, Espanya
CATEGORIES:Activitats associats,Penedès-Garraf,Territorials
END:VEVENT
BEGIN:VEVENT
DTSTART;TZID=UTC+1:20260418T120000
DTEND;TZID=UTC+1:20260418T140000
DTSTAMP:20260425T203827
CREATED:20260414T161651Z
LAST-MODIFIED:20260414T161651Z
UID:28569-1776513600-1776520800@www.bestiari.cat
SUMMARY:Mig-Diada (Presentació dels Nous Vestuari i Maces de La Pàjara de Terrassa)
DESCRIPTION:Mig-Diada (Presentació dels Nous Vestuari i Maces de La Pàjara de Terrassa)\n\nAquest dissabte és la Mig-Diada! Una festa on esteu tots convidats per la presentació dels nous vestits i maces de de La Pàjara de Terrassa. Podreu gaudir de vermut gratuït a les 12.00h del migdia a la plaça de la Torre del Palau.\n\n
URL:https://www.bestiari.cat/esdeveniment/mig-diada-presentacio-dels-nous-vestuari-i-maces-de-la-pajara-de-terrassa/
CATEGORIES:Activitats associats,Territorials,Vallès-Maresme-Barcelonès Nord
END:VEVENT
BEGIN:VEVENT
DTSTART;TZID=UTC+1:20260418T180000
DTEND;TZID=UTC+1:20260418T220000
DTSTAMP:20260425T203827
CREATED:20260413T151705Z
LAST-MODIFIED:20260413T151705Z
UID:28522-1776535200-1776549600@www.bestiari.cat
SUMMARY:Trobada de Bèsties a Alcarràs
DESCRIPTION:Trobada de Bèsties a Alcarràs\n\nEl 18 d’abril\, ALCARRÀS TORNA A CREMAR! Amb motiu de la Setmana Cultural\, els Dimonis Som i Serem us conviden a viure una Trobada de Bestiari de Foc plena d’espurnes\, ritme i emoció.\n\n\n\nEls acompanyaran les colles d’Alguaire\, Balaguer i Lleida\, amb les seves impressionants bèsties! Hi participaran El carrincló de Lleida\, l’Extramoni de Balaguer\, la Figa-foc d’Alguaire i\, per descomptat\, la seva estimada Puput!!\n\nLa tarda començarà amb cercavila pels carrers del poble\, continuarà amb un correfoc ben intens al ritme dels tambors i acabarà amb la gran batalla final de bèsties.\n\n \tInici: Escoles Velles d'Alcarràs\n \tExposició: Pl. de l'Esglèsia\n \tBatalla: Pl. del Toll\n\nUs deixem les magnífiques presentacions de les Bèsties Participants:\n\n\n\n\n\n \n\n \n\n \n\n \n\n \n\n \n\n \n\n\n\n \n\n \n\n \n\n \n\n \n\n \n\n \n\n\n\n\n\n \n\n \n\n \n\n \n\n \n\n \n\n \n\n
URL:https://www.bestiari.cat/esdeveniment/trobada-de-besties-a-alcarras/
LOCATION:25180 \, Espanya
CATEGORIES:Activitats associats,Terres de Ponent-Alt Pirineu,Territorials
END:VEVENT
BEGIN:VEVENT
DTSTART;TZID=UTC+1:20260418T180000
DTEND;TZID=UTC+1:20260418T223000
DTSTAMP:20260425T203827
CREATED:20260413T153852Z
LAST-MODIFIED:20260413T153852Z
UID:28542-1776535200-1776551400@www.bestiari.cat
SUMMARY:Correfoc de FM a Sagrada Família
DESCRIPTION:Correfoc de FM a Sagrada Família\n\nEl pròxim dissabte 18 d'abril es farà el correfoc de Festa Major del barri de la Sagrada Família de Barcelona. Horaris:\n\n- 18h Correfoc Infantil amb...\n\n \tles Farfolletes i Farfollot de la Sagrada Família i\n \tles colles convidades Fures de Can Baró i Trapelles de Sant Antoni\n\n- 20.30h Correfoc Adult amb...\n\n\n \tla Farfolla de la Sagrada Família\n \tEscurcerot d'Ordal i\n \tSexot de Sant Cugat de Sesgarrigues\n
URL:https://www.bestiari.cat/esdeveniment/correfoc-de-fm-a-sagrada-familia/
LOCATION:Barcelona\, Espanya
CATEGORIES:Activitats associats,Barcelona Ciutat,Territorials
END:VEVENT
BEGIN:VEVENT
DTSTART;TZID=UTC+1:20260418T183000
DTEND;TZID=UTC+1:20260418T220000
DTSTAMP:20260425T203827
CREATED:20260413T152939Z
LAST-MODIFIED:20260413T152939Z
UID:28535-1776537000-1776549600@www.bestiari.cat
SUMMARY:Nit de Bèsties 2026 a Sant Joan Despí
DESCRIPTION:Nit de Bèsties 2026 a Sant Joan Despí\n\nArranquem la primavera amb la Nit de Bèsties. La Colla de Diables de Sant Joan Despí ha preparat un espectacle estàtic pel proper 18 d'abril. Veniu a gaudir amb les seves bèsties\, en Braulio i l'Espurna!\n\n \t18.30h Plantada de Bèsties\n \t19.30h Tabalada\n \t20.00h Inici de l'Espectacle\n\nOn? Al Parc de la Fontsanta\, Sant Joan Despí\n\nColles Convidades:\n\n \tAntonot\, Forques de Can Deu\n \tEl Drac de Sant Feliu\n \tEspurna\, el Drac de Calafell\n \tGriu de Tarragona\n \tMulassa Feixuga del Vendrell\n\nCartells
URL:https://www.bestiari.cat/esdeveniment/nit-de-besties-2026-a-sant-joan-despi/
LOCATION:08970 \, Espanya
CATEGORIES:Activitats associats,Baix Llobregat i L'Hospitalet,Territorials
END:VEVENT
BEGIN:VEVENT
DTSTART;TZID=UTC+1:20260418T220000
DTEND;TZID=UTC+1:20260418T235900
DTSTAMP:20260425T203827
CREATED:20260414T151540Z
LAST-MODIFIED:20260414T151540Z
UID:28561-1776549600-1776556740@www.bestiari.cat
SUMMARY:Festa de La Municipalitat + Correfoc de Bèsties a La Canonja
DESCRIPTION:Festa de La Municipalitat + Correfoc de Bèsties a La Canonja\n\nDissabte 18 d'abril el Mamut de La Canonja torna a la càrrega\, i aquest cop per celebrar el correfoc de bèsties\, dins el marc de la Festa de la Municipalitat de la Canonja.\n\nA partir de les 22h al Replà de l'església\, on els acompanyaran el @dracterrassa\, el @rucdelagranada i la Nicaseta del Catllar (@diablesdelcatllar).\n\nRecorregut: Replà de l'església\, C/Corredor\, Plaça de la O\, C/Antoni Brossa\, C/Raval\, C/Verge de les Neus i Rambla 15 d’abril.\n\n
URL:https://www.bestiari.cat/esdeveniment/festa-de-la-municipalitat-correfoc-de-besties-a-la-canonja/
LOCATION:La Canonja\, 43110\, Espanya
CATEGORIES:Activitats associats,El Camp-Conca-Priorat,Territorials
END:VEVENT
END:VCALENDAR