BEGIN:VCALENDAR
VERSION:2.0
PRODID:-//Agrupació del Bestiari Festiu i Popular de Catalunya - ECPv4.5.3//NONSGML v1.0//EN
CALSCALE:GREGORIAN
METHOD:PUBLISH
X-WR-CALNAME:Agrupació del Bestiari Festiu i Popular de Catalunya
X-ORIGINAL-URL:https://www.bestiari.cat
X-WR-CALDESC:Events for Agrupació del Bestiari Festiu i Popular de Catalunya
BEGIN:VEVENT
DTSTART;TZID=UTC+1:20230812T213000
DTEND;TZID=UTC+1:20230812T233000
DTSTAMP:20260419T214459
CREATED:20230816T125119Z
LAST-MODIFIED:20230816T125119Z
UID:22531-1691875800-1691883000@www.bestiari.cat
SUMMARY:💥 TOMB DE FOC 2023 de la Festa Major de la Geltrú 🔥
DESCRIPTION:Us presentem el cartell del Tomb de Foc d'aquest any. Serà el primer amb una colla de diables\, i els convidats són el @balldiablestgn.\n\nPel que fa a bestiari festiu\, ens acompanyarà @espurnaeldracdecalafell_\, estrenat l'any passat i que ve per primer cop al la nostra festa. I tornen enguany a un Tomb de Foc el @dracdeterrassa i la Víbria de Tarragona dels @diablesvoramar.\n\nSón les colles participants que acompanyaran en aquesta edició el Drac de la Geltrú (amb els seus tabalers amb els nous tabals tradicionals) i el Drac petit de la Geltrú.\n\nDissabte 12 d'agost\, a partir de les 21.30h\, espectacle infernal amb el Cabró\, la Malèfica i altres éssers i després Tomb de Foc per l'infern geltrunenc!\n\nFotografia del cartell: @flama_cultural.\n\n
URL:https://www.bestiari.cat/esdeveniment/%f0%9f%92%a5-tomb-de-foc-2023-de-la-festa-major-de-la-geltru-%f0%9f%94%a5/
LOCATION:Plaça de Font i Gumà\, 1\, Vilanova i la Geltrú\, Barcelona\, 08800\, Espanya
CATEGORIES:Activitats associats,Penedès-Garraf
END:VEVENT
END:VCALENDAR