BEGIN:VCALENDAR
VERSION:2.0
PRODID:-//Agrupació del Bestiari Festiu i Popular de Catalunya - ECPv4.5.3//NONSGML v1.0//EN
CALSCALE:GREGORIAN
METHOD:PUBLISH
X-WR-CALNAME:Agrupació del Bestiari Festiu i Popular de Catalunya
X-ORIGINAL-URL:https://www.bestiari.cat
X-WR-CALDESC:Events for Agrupació del Bestiari Festiu i Popular de Catalunya
BEGIN:VEVENT
DTSTART;TZID=UTC+1:20170805T193000
DTEND;TZID=UTC+1:20170805T223000
DTSTAMP:20260420T132656
CREATED:20170724T152009Z
LAST-MODIFIED:20170724T152009Z
UID:2643-1501961400-1501972200@www.bestiari.cat
SUMMARY:10è Aniversari de la Mulassa dels Pallaresos
DESCRIPTION:Trobada de Bestiari dins la Festa Major d'estiu per celebrar els 10 anys de la Mulassa dels Pallaresos\n\n19:30h Plantada de besties\n20h Cercavila\n21h Espectacle #10deMulassa\n\nBesties Convidades:\n- Au Fènix de la Pobla de Mafumet\n- Mulassa de Sant Feliu de Llobregat\n- Dragonina de Constantí\n- Drac de la Riera de Gaià\n- Mulassa de Barcelona\n- Mulassa de Valls\n- Lleó del Vendrell\n- Mulassa de Castellbisbal\n- Basilisc gran i petit de Reus\n- Mulassa dels Pallaresos
URL:https://www.bestiari.cat/esdeveniment/10e-aniversari-de-la-mulassa-dels-pallaresos/
LOCATION:Els Pallaresos\, Espanya
CATEGORIES:Altres activitats
ATTACH;FMTTYPE=image/jpeg:https://www.bestiari.cat/wp-content/uploads/2017/07/cartell-FM.jpg
END:VEVENT
END:VCALENDAR