BEGIN:VCALENDAR
VERSION:2.0
PRODID:-//Agrupació del Bestiari Festiu i Popular de Catalunya - ECPv4.5.3//NONSGML v1.0//EN
CALSCALE:GREGORIAN
METHOD:PUBLISH
X-WR-CALNAME:Agrupació del Bestiari Festiu i Popular de Catalunya
X-ORIGINAL-URL:https://www.bestiari.cat
X-WR-CALDESC:Events for Agrupació del Bestiari Festiu i Popular de Catalunya
BEGIN:VEVENT
DTSTART;TZID=UTC+1:20171021T180000
DTEND;TZID=UTC+1:20171021T233000
DTSTAMP:20260420T002938
CREATED:20171019T153813Z
LAST-MODIFIED:20171019T153813Z
UID:2999-1508608800-1508628600@www.bestiari.cat
SUMMARY:10è aniversari de la Víbria del Vendrell
DESCRIPTION:Programa d'actes:\n\n \ta les18h\, plantada de víbries\n \tde 18 a 19h taller a càrrec d'Eurekakids\n \ta les 19:30h tabalada i encesa de les víbries\n \ta les 22h sopar de germanor\n \ta les 23h doble concert amb Zim&The Zums i Porto Bello\n\nOrganitzat pel Ball de diablons i Víbria del Vendrell.
URL:https://www.bestiari.cat/esdeveniment/10e-aniversari-de-la-vibria-del-vendrell/
LOCATION:Plaça Nova\, El Vendrell\, Espanya
CATEGORIES:Activitats associats,Penedès-Garraf
ATTACH;FMTTYPE=image/jpeg:https://www.bestiari.cat/wp-content/uploads/2017/10/22339612_1550663778313693_7633015100705432242_o.jpg
END:VEVENT
END:VCALENDAR