BEGIN:VCALENDAR
VERSION:2.0
PRODID:-//Agrupació del Bestiari Festiu i Popular de Catalunya - ECPv4.5.3//NONSGML v1.0//EN
CALSCALE:GREGORIAN
METHOD:PUBLISH
X-WR-CALNAME:Agrupació del Bestiari Festiu i Popular de Catalunya
X-ORIGINAL-URL:https://www.bestiari.cat
X-WR-CALDESC:Events for Agrupació del Bestiari Festiu i Popular de Catalunya
BEGIN:VEVENT
DTSTART;TZID=UTC+1:20221015T130000
DTEND;TZID=UTC+1:20221015T233000
DTSTAMP:20260419T214416
CREATED:20221011T055302Z
LAST-MODIFIED:20221011T055456Z
UID:19719-1665838800-1665876600@www.bestiari.cat
SUMMARY:10è aniversari de Mercadal Infernal i estrena del Griu de Sant Andreu de Palomar
DESCRIPTION:La colla de diables Mercadal Infernal està d'aniversari: compleix 10 anys i\, per celebrar-ho\, el pròxim dissabte 15 d'octubre ha organitzat una jornada plena d'activitats.\n\nAixí\, des de la una del migdia fins a la una de la matinada\, a la plaça de Can Fabra de Barcelona es farà: Bingo musical\, tallers artístics\, tallers infernals\, taller de tabals\, xocolatada\, espectacles de foc\, quinto i sessions de PDs.\n\nLa colla\, a més\, aprofitarà l'ocasió per batejar a les set de la tarda la nova bèstia de foc de Sant Andreu de Palomar: el Griu.\n\nNo us perdeu aquesta gran festa que\, com bé diu la colla: "Serà un dia per recordar!".
URL:https://www.bestiari.cat/esdeveniment/10e-aniversari-de-mercadal-infernal-i-estrena-del-griu-de-sant-andreu-de-palomar/
LOCATION:Plaça de Can Fabra\, Barcelona\, Barcelona \, 08030\, Espanya
CATEGORIES:Activitats associats,Barcelona Ciutat
ATTACH;FMTTYPE=image/jpeg:https://www.bestiari.cat/wp-content/uploads/2022/10/3c9f578c-c34b-4192-9e2f-06b2fecfb936.jpeg
END:VEVENT
END:VCALENDAR