BEGIN:VCALENDAR
VERSION:2.0
PRODID:-//Agrupació del Bestiari Festiu i Popular de Catalunya - ECPv4.5.3//NONSGML v1.0//EN
CALSCALE:GREGORIAN
METHOD:PUBLISH
X-WR-CALNAME:Agrupació del Bestiari Festiu i Popular de Catalunya
X-ORIGINAL-URL:https://www.bestiari.cat
X-WR-CALDESC:Events for Agrupació del Bestiari Festiu i Popular de Catalunya
BEGIN:VEVENT
DTSTART;TZID=UTC+1:20251122T190000
DTEND;TZID=UTC+1:20251122T220000
DTSTAMP:20260419T205705
CREATED:20251119T164334Z
LAST-MODIFIED:20251119T164334Z
UID:27923-1763838000-1763848800@www.bestiari.cat
SUMMARY:13a Trobada de Bèsties al Poble Sec
DESCRIPTION:13a Trobada de Bèsties al Poble Sec\n\nEl pròxim dissabte22 no t'ho pots perdre! Torna la trobada de bèsties del Poble Sec\, la trobada d’amics del Sirius.\n\nHorari\n\n \tPlantada a les 19h seguida de l’inici del correfoc a les 20h. ️\n\nRecorregut\n\n \tPl. Navas\, c/Bòbila\, c/Mare de Déu del Remei\, c/Grases\, c/Olivera\n\nI aquest any compten amb la participació especial de grans convidats:\n\n \tCarpafera de Martorell @diables_i_dracs_martorell\n \tNebula de Trinitat Vella @diablestrinifoc\n \tHeura dels Diables de la Florida @diableslaflorida\n\n
URL:https://www.bestiari.cat/esdeveniment/13a-trobada-de-besties-al-poble-sec/
LOCATION:Barcelona\, 08004 \, Espanya
CATEGORIES:Activitats associats,Barcelona Ciutat,Territorials
ORGANIZER;CN="Diables%20del%20Poble%20Sec":MAILTO:diablespsec@gmail.com 
END:VEVENT
END:VCALENDAR