BEGIN:VCALENDAR
VERSION:2.0
PRODID:-//Agrupació del Bestiari Festiu i Popular de Catalunya - ECPv4.5.3//NONSGML v1.0//EN
CALSCALE:GREGORIAN
METHOD:PUBLISH
X-WR-CALNAME:Agrupació del Bestiari Festiu i Popular de Catalunya
X-ORIGINAL-URL:https://www.bestiari.cat
X-WR-CALDESC:Events for Agrupació del Bestiari Festiu i Popular de Catalunya
BEGIN:VEVENT
DTSTART;TZID=UTC+1:20260425T173000
DTEND;TZID=UTC+1:20260425T230000
DTSTAMP:20260422T170846
CREATED:20260422T133507Z
LAST-MODIFIED:20260422T133516Z
UID:28603-1777138200-1777158000@www.bestiari.cat
SUMMARY:14a Trobada de Bèsties de Foc a La Sagrera\, Barcelona
DESCRIPTION:14a Trobada de Bèsties de Foc a La Sagrera\, Barcelona\n\n\n\nArriba a la Sagrera la Festa de la Primavera! Per 14a vegada per primavera les bèsties a la Sagrera surten a cop de foc. Dissabte 25 d’abril a la tarda\, petits i grans\, teniu una cita amb el foc! Horaris:\n\n \t17.30h - Plantada de Bèsties amb... @diablesverneda.guspirestmarti @quimeradelcarmel @diablesdesantantoni @cabronetsdelnord\n \t18.15h - Tabalada Infantil\n \t18.30h - Correfoc Infantil\n \t20.30h - Tabalada Adulta\n \t21h - Correfoc Adult\n\nTotes les activitats inicien a Pl. Jardins d'Elx.\n\nA més a més\, al llarg d’aquesta setmana (del 20 al 25 d'abril)\, podreu trobar les bèsties exposades a la @torrelasagrera\n\nTrobaràs el programa sencer en versió digital a barcelona.cat/santandreu \n\n  \n\n\n\n \n\n \n\n
URL:https://www.bestiari.cat/esdeveniment/14a-trobada-de-besties-de-foc-a-la-sagrera-barcelona/
LOCATION:Barcelona\, 08027 \, Espanya
CATEGORIES:Activitats associats,Barcelona Ciutat,Territorials
END:VEVENT
END:VCALENDAR