BEGIN:VCALENDAR
VERSION:2.0
PRODID:-//Agrupació del Bestiari Festiu i Popular de Catalunya - ECPv4.5.3//NONSGML v1.0//EN
CALSCALE:GREGORIAN
METHOD:PUBLISH
X-WR-CALNAME:Agrupació del Bestiari Festiu i Popular de Catalunya
X-ORIGINAL-URL:https://www.bestiari.cat
X-WR-CALDESC:Events for Agrupació del Bestiari Festiu i Popular de Catalunya
BEGIN:VEVENT
DTSTART;VALUE=DATE:20220430
DTEND;VALUE=DATE:20220430
DTSTAMP:20260420T044247
CREATED:20220406T090643Z
LAST-MODIFIED:20220406T090643Z
UID:17744-1651276800-1651363199@www.bestiari.cat
SUMMARY:14è Diabòlic a Vilafranca del Penedès
DESCRIPTION:Després de dos anys amb restriccions\, el pròxim dissabte 30 d'abril se celebrarà a Vilafranca del Penedès la 14a edició del Diabòlic. L'acte\, organitzat pel Ball de Diables de Vilafranca\, comptarà amb una sèrie d'activitats durant tota la jornada.\n\nPrograma d'actes:\n\n \t10.30 h: Activitat "El teu Diabòlic" per a joves d'entre 10 i 16 anys\, perquè experimentin què és ser diable (amb inscripció prèvia). Es farà a la plaça del Bisbe Torres i Bages.\n \t21 h: Cercavila de foc des de la plaça de la Vila amb la participació del Drac de la Geltrú\, els Dimonis Enroscats de l'Alcúdia\, el Ball de Diables de Reus\, el Ball de Diables del Vendrell i el Ball de Diables de Vilafranca.\n \t23.30 h: Concert amb Derrumband i Dj Capi\n\n 
URL:https://www.bestiari.cat/esdeveniment/14e-diabolic-a-vilafranca-del-penedes/
CATEGORIES:Altres activitats,Penedès-Garraf
ATTACH;FMTTYPE=image/jpeg:https://www.bestiari.cat/wp-content/uploads/2022/04/Cartell-Diabòlic.jpg
END:VEVENT
END:VCALENDAR