BEGIN:VCALENDAR
VERSION:2.0
PRODID:-//Agrupació del Bestiari Festiu i Popular de Catalunya - ECPv4.5.3//NONSGML v1.0//EN
CALSCALE:GREGORIAN
METHOD:PUBLISH
X-WR-CALNAME:Agrupació del Bestiari Festiu i Popular de Catalunya
X-ORIGINAL-URL:https://www.bestiari.cat
X-WR-CALDESC:Events for Agrupació del Bestiari Festiu i Popular de Catalunya
BEGIN:VEVENT
DTSTART;TZID=UTC+1:20220611T110000
DTEND;TZID=UTC+1:20220611T140000
DTSTAMP:20260422T122257
CREATED:20220607T103846Z
LAST-MODIFIED:20220607T103846Z
UID:18322-1654945200-1654956000@www.bestiari.cat
SUMMARY:1a Jornada de Corpus: "El bestiari popular i l'ou com balla\, elements de Corpus"
DESCRIPTION:Aquest dissabte 11 de juny\, a la seu del Grup d'Estudis Sitgetans (GES) se celebrarà 1a Jornada de Corpus: "El bestiari popular i l'ou com balla\, elements de Corpus"\, coorganitzada pel Grup d’Estudis Sitgetans i la Comissió del Corpus de Sitges.\n\nTal com explica el president de la Comissió del Corpus\, Eduard Tomàs\, “ja fa anys que\, amb col·laboració amb el GES\, fem una xerrada històrica o un col·loqui per Corpus”.\n\nEnguany\, a proposta del GES\, continuant amb la tasca conjunta de recerca i divulgació\, s’aposta per realitzar una jornada amb dos conferenciants de prestigi\, com Carles Freixes i Nil Rider\, que aportin una visió més àmplia i global de la festa. I la voluntat és de mantenir-la any rere any\, de manera que sigui un punt de debat i coneixement de la celebració. Un punt de referència per a estudiosos d’arreu\, però també pels mateixos sitgetans\, que posi en valor el Corpus de Sitges. “Una de les celebracions icòniques de Catalunya”\, en paraules d’Eduard Tomàs.\n\nEn aquesta 1a Jornada\, l’historiador Nil Rider parlarà sobre “L’Ou com balla\, un element identitari del Corpus”\, del que en presentava un llibre el 2021. I Carles Freixes\, director del Museu Diocesà i Comarcal de Solsona\, parlarà de “La festa del Corpus i la persistència del bestiari popular”\, l’any del centenari del Drac de Sitges.
URL:https://www.bestiari.cat/esdeveniment/1a-jornada-de-corpus-el-bestiari-popular-i-lou-com-balla-elements-de-corpus/
CATEGORIES:Activitats associats,Penedès-Garraf
ATTACH;FMTTYPE=image/jpeg:https://www.bestiari.cat/wp-content/uploads/2022/06/photo1654597805.jpeg
END:VEVENT
END:VCALENDAR