BEGIN:VCALENDAR
VERSION:2.0
PRODID:-//Agrupació del Bestiari Festiu i Popular de Catalunya - ECPv4.5.3//NONSGML v1.0//EN
CALSCALE:GREGORIAN
METHOD:PUBLISH
X-WR-CALNAME:Agrupació del Bestiari Festiu i Popular de Catalunya
X-ORIGINAL-URL:https://www.bestiari.cat
X-WR-CALDESC:Events for Agrupació del Bestiari Festiu i Popular de Catalunya
BEGIN:VEVENT
DTSTART;TZID=UTC+1:20181027T170000
DTEND;TZID=UTC+1:20181027T233000
DTSTAMP:20260420T132327
CREATED:20181025T063941Z
LAST-MODIFIED:20181025T063941Z
UID:4367-1540659600-1540683000@www.bestiari.cat
SUMMARY:1a Trobada de Bèsties de Gelida: 10 anys\, 10 bèsties
DESCRIPTION:1a Trobada de Bèsties de Gelida: 10 anys\, 10 bèsties\, per celebrar els 10 anys @diablesgelida 27 d'octubre a les 17h Plantada de bèstiari a la Plaça de la Vila\, a les 18h inici de cercavila i a les 22h encesa i lluïments de foc\, a la plaça de l'Església\n\nAmb la participació de: Bou del Vendrell\, Escurcerot de l'Ordal\, Ferafoc de St. Quintí de Mediona\, Gos Cancerver\, Drac de Granollers\, Drac de Parets\, Viagrot de Cubelles\, Basilísc de Mataró\, Cèrvol Diabòlic i Drac de Gelida.\n\nOrganitza: Colla de Diables de Gelida - Patrocina: Ajuntament de Gelida i Diputació de Barcelona
URL:https://www.bestiari.cat/esdeveniment/1a-trobada-de-besties-de-gelida-10-anys-10-besties/
LOCATION:Plaça de la Vila\, Gelida\, Espanya
CATEGORIES:Altres activitats,Penedès-Garraf
ATTACH;FMTTYPE=image/jpeg:https://www.bestiari.cat/wp-content/uploads/2018/10/DqNEc3XXcAEvPC_.jpg
END:VEVENT
END:VCALENDAR