BEGIN:VCALENDAR
VERSION:2.0
PRODID:-//Agrupació del Bestiari Festiu i Popular de Catalunya - ECPv4.5.3//NONSGML v1.0//EN
CALSCALE:GREGORIAN
METHOD:PUBLISH
X-WR-CALNAME:Agrupació del Bestiari Festiu i Popular de Catalunya
X-ORIGINAL-URL:https://www.bestiari.cat
X-WR-CALDESC:Events for Agrupació del Bestiari Festiu i Popular de Catalunya
BEGIN:VEVENT
DTSTART;TZID=UTC+1:20210612T120000
DTEND;TZID=UTC+1:20210612T120000
DTSTAMP:20260420T094711
CREATED:20210610T123109Z
LAST-MODIFIED:20210610T123330Z
UID:14721-1623499200-1623499200@www.bestiari.cat
SUMMARY:25è aniverari - Els Bocs de Can Rosés
DESCRIPTION:Els Bocs de Can Rosés celebren el seu 25è aniversari fent tornar la cultura popular a les Corts! I ho faran a la plaça que els va veure néixer\, la plaça de Can Rosés.\n\nHa estat un any on\, més que mai\, la colla s'ha esforçat per mantenir la flama encesa (revetlla popular de Sant Joan\, presentació del llibre "La petita història de l'Aegis"\, creació de l'Auca "25è aniversari")\, i aquest dia volen compartir això i més amb tothom. Tot plegat\, amb les mesures sànitaries de seguretat vigents. Us conviden a:\n\nA l'hora del vermut\, amb inici a les 12:00: actuació de El Sobrino del Diablo i Laura Jara\, que amenitzaran a ritme de rock i humor un vermut a l'aire lliure (amb vermut i olivetes a preus populars a la barra!).\n\nPer la tarda\, a les 17:00\, convidem als petits/es i als no tant petits/es a la Presentació Auca 25è Aniversari i al Contacontes del llibre La petita història de l'Aegis.\n\nPer escalfar motors per a la nit\, a les 18:30 hi haurà tabalada.\n\nEl plat fort de la festa comença a les 20:00 amb el concert del grup El Pony Pisador (folk\, celta\, rock fusió)\, que tornen al barri per a fer moure i remoure!\n\nI... ja s'ensuma la pòlvora\, que arriba a les 22:00 amb l'espectacle de foc\, seguit de música amb PD Kiwi Sound per a tancar la festa a les 01:00.\n\nATENCIÓ!\n\nMans\, mascareta\, distància. Respecteu les normatives vigents de prevenció de la COVID-19.\nRespecta i segueix les indicacions de l’organització pel bon funcionament de les activitats.\nObertura espai perimetrat:\n11:45h (Vermut Musical)\n16:45 (Presentació de l'auca del 25è aniversari Els Bocs de Can Rosés i Contacontes de La petita història de l’Aegis)\n18:20 (Tabalada)\n19:30 (Concert amb El Pony Pisador)\n21:45 (Espectacle de foc i PD Kiwi Sound)\nAforament limitat i espai perimetrat a la plaça. Us demanem que vingueu com a mínim 15 minuts abans de l'inici de cada activitat per facilitar el control d'accessos.\n\nAvís:\n\nSi no et presentes a l'activitat on t'has apuntat\, 15 min després de l'inici d'aquesta\, perdràs l'entrada\, ja que es donarà accés a altres persones que no tinguin entrada per tal d'evitar que quedin cadires buides.\n\nEn cas d'entrades esgotades per a una activitat\, si l'aforament no està complert s'alliberaran places per a permetre l'entrada (previ registre) de qui ho sol·liciti\, fins arribar a l'aforament permès per normativa.\n\nSi finalment no pots venir\, allibera l'entrada!
URL:https://www.bestiari.cat/esdeveniment/25e-aniverari-els-bocs-de-can-roses/
LOCATION:Plaça de Can Rosés\, Barcelona\, Barcelona\, Espanya
CATEGORIES:Activitats associats,Barcelona Ciutat
ATTACH;FMTTYPE=image/jpeg:https://www.bestiari.cat/wp-content/uploads/2021/06/Cartell_vertical.jpg
END:VEVENT
END:VCALENDAR