BEGIN:VCALENDAR
VERSION:2.0
PRODID:-//Agrupació del Bestiari Festiu i Popular de Catalunya - ECPv4.5.3//NONSGML v1.0//EN
CALSCALE:GREGORIAN
METHOD:PUBLISH
X-WR-CALNAME:Agrupació del Bestiari Festiu i Popular de Catalunya
X-ORIGINAL-URL:https://www.bestiari.cat
X-WR-CALDESC:Events for Agrupació del Bestiari Festiu i Popular de Catalunya
BEGIN:VEVENT
DTSTART;TZID=UTC+1:20180714T190000
DTEND;TZID=UTC+1:20180714T233000
DTSTAMP:20260420T002919
CREATED:20180714T082453Z
LAST-MODIFIED:20180714T082453Z
UID:3975-1531594800-1531611000@www.bestiari.cat
SUMMARY:25è aniversari Drac Badalot de l'Arboç
DESCRIPTION:
URL:https://www.bestiari.cat/esdeveniment/25e-aniversari-drac-badalot-de-larboc/
LOCATION:Plaça de la Badalota\, L'Arboç\, Espanya
CATEGORIES:Activitats associats,Penedès-Garraf
ATTACH;FMTTYPE=image/jpeg:https://www.bestiari.cat/wp-content/uploads/2018/07/WhatsApp-Image-2018-07-09-at-09.18.03.jpeg
END:VEVENT
END:VCALENDAR