BEGIN:VCALENDAR
VERSION:2.0
PRODID:-//Agrupació del Bestiari Festiu i Popular de Catalunya - ECPv4.5.3//NONSGML v1.0//EN
CALSCALE:GREGORIAN
METHOD:PUBLISH
X-WR-CALNAME:Agrupació del Bestiari Festiu i Popular de Catalunya
X-ORIGINAL-URL:https://www.bestiari.cat
X-WR-CALDESC:Events for Agrupació del Bestiari Festiu i Popular de Catalunya
BEGIN:VEVENT
DTSTART;TZID=UTC+1:20250913T110000
DTEND;TZID=UTC+1:20250913T235900
DTSTAMP:20260419T200030
CREATED:20250908T161518Z
LAST-MODIFIED:20250908T161518Z
UID:27487-1757761200-1757807940@www.bestiari.cat
SUMMARY:2a Trobada Mulassera a El Vendrell
DESCRIPTION:2a Trobada Mulassera a El Vendrell\n\nEl proper 13 de setembre\, La Mulassa Feixuga del Vendrell celebra la 2a Trobada Mulassera! \n\nConvidats:\n\n \tEl Boc Jordiet @llampecnois\n \t@el_cuc_molins_de_rei\n \t@dracbanyeres\n \tL'anguila Murtrassa de @ciafocgava !\n \tDrac de Llorenç @diablesdellorenc\n \t@amicsdeldrac1985\n \t@boudefoc_elvendrell\n \tI els seus padrins\, @balldediablesdelvendrell\n\nHoraris: (podeu consultar tota la programació a AQUÍ)\n\n \t11h - 12h Arribada de Bèsties\n \t20h Baixada de Bèsties\n \t20.30h Plantada de Bèsties\n \t21.30h Inici de les Places de Foc\n\n
URL:https://www.bestiari.cat/esdeveniment/2a-trobada-mulassera-a-el-vendrell/
LOCATION:Tarragona\, 43700 \, Espanya
CATEGORIES:Activitats associats,Penedès-Garraf,Territorials
END:VEVENT
END:VCALENDAR