BEGIN:VCALENDAR
VERSION:2.0
PRODID:-//Agrupació del Bestiari Festiu i Popular de Catalunya - ECPv4.5.3//NONSGML v1.0//EN
CALSCALE:GREGORIAN
METHOD:PUBLISH
X-WR-CALNAME:Agrupació del Bestiari Festiu i Popular de Catalunya
X-ORIGINAL-URL:https://www.bestiari.cat
X-WR-CALDESC:Events for Agrupació del Bestiari Festiu i Popular de Catalunya
BEGIN:VEVENT
DTSTART;TZID=UTC+1:20171025T193000
DTEND;TZID=UTC+1:20171025T210000
DTSTAMP:20260420T033032
CREATED:20171022T162311Z
LAST-MODIFIED:20171022T162419Z
UID:3014-1508959800-1508965200@www.bestiari.cat
SUMMARY:Presentació del llibre "Seguici popular\, Toc d’inici i altres elements singulars de les festes de la ciutat"
DESCRIPTION:\n\nPer primera vegada es reuneixen els elements festius més emblemàtics de Barcelona en un llibre il·lustrat. Seguici popular\, Toc d’inici i altres elements singulars de les festes de la ciutat serà presentat dimecres 25 d’octubre (19:30) a la Sala d’Actes de La Casa dels Entremesos (Plaça de les Beates\, núm. 2). Es tracta del segon volum de la col·lecció Grups festius de Barcelona\, coeditada per l’Institut de Cultura de Barcelona i El Cep i la Nansa Edicions.\n\n\nLa presentació anirà a càrrec de Xavier Cordomí i JuanolO\, escriptor i il·lustrador respectivament del llibre. Preguntat per l’anhel que motiva la col·lecció\, Cordomí explica: “Hem volgut divulgar les figures a un públic general. Per això hi presentem informació bàsica\, però també aquells aspectes més originals i desconeguts”. El director de La Casa dels Entremesos destaca que el llibre exposa 36 grups que tenen el conjunt de la ciutat (no pas un barri específic) com a àmbit de referència.\n\nEncapçalant l’obra\, s’exposen les figures que conformen el seguici popular de Barcelona\, constituït l’any 1993: els gegants de la ciutat\, l’Àliga\, el Lleó\, la Mulassa\, el Bou\, la Víbria\, el Drac\, la Tarasca\, els Cavallets Cotoners\, els Gegants del Pi\, els Gegants de Santa Maria del Mar\, i els capgrossos macers. Les primeres referències documentals conegudes totes elles\, que es comprenen entre 1424 (quan tenim la primera constància del lleó\, el drac\, la víbria o els cavallets) i 1599 (aparició de la tarasca)\,  justifiquen la seva presència en les tres grans celebracions del calendari festiu barceloní: Festes de Santa Eulàlia\, Corpus Christi i Festes de la Mercè.\n\nTal com el mateix títol revela\, el recopilatori reunit en aquesta obra és molt més extens. També inclou grups que\, sense formar part del seguici popular\, sí s'inclouen en el Protocol Festiu de Barcelona. “Entre aquests —destaca Cordomí— s’han distingit aquelles que formen part del Toc d’Inici de les Festes de la Mercè respecte de les que participen d’altres celebracions”. Finalment\, el llibre s’atura en aquelles expressions que\, malgrat no formar part de l’esmentat Protocol Festiu\, tenen una forta incidència en la vida festiva dels barcelonins.\n\nDins la col·lecció Grups festius de Barcelona\, prèviament s’ha publicat el llibre ‘Colles de diables de Barcelona’. El tercer volum de la sèrie\, que es presentarà presumiblement durant l’hivern del 2018\, pivotarà entorn el bestiari festiu. Tancarà la col·lecció els volums sobre gegants i capgrossos\, i balls populars de Barcelona.
URL:https://www.bestiari.cat/esdeveniment/3014/
LOCATION:Plaça de les Beates\, 2\, Barcelona\, Barcelona\, 08010\, Espanya
CATEGORIES:Altres activitats,Barcelona Ciutat
ATTACH;FMTTYPE=image/jpeg:https://www.bestiari.cat/wp-content/uploads/2017/10/emblematics.jpg
END:VEVENT
END:VCALENDAR