BEGIN:VCALENDAR
VERSION:2.0
PRODID:-//Agrupació del Bestiari Festiu i Popular de Catalunya - ECPv4.5.3//NONSGML v1.0//EN
CALSCALE:GREGORIAN
METHOD:PUBLISH
X-WR-CALNAME:Agrupació del Bestiari Festiu i Popular de Catalunya
X-ORIGINAL-URL:https://www.bestiari.cat
X-WR-CALDESC:Events for Agrupació del Bestiari Festiu i Popular de Catalunya
BEGIN:VEVENT
DTSTART;TZID=UTC+1:20251011T170000
DTEND;TZID=UTC+1:20251011T230000
DTSTAMP:20260419T232431
CREATED:20251007T154755Z
LAST-MODIFIED:20251007T154755Z
UID:27701-1760202000-1760223600@www.bestiari.cat
SUMMARY:30a Mostra de Bestiari de Foc del Drac de Granollers
DESCRIPTION:30a Mostra de Bestiari de Foc del Drac de Granollers\n\nEl proper 11 d'octubre es celebrarà la 30a Mostra de Bestiari de Foc del Drac de Granollers. A la Pl. De la Porxada.\n\nHoraris\n- 17h a 20h Plantada del bestiari\n- 17.30h Activitats infantils\n- 18.30h Lliurament premis Joc de la mostra\n\nCERCAVILES\n- 19h Cercavila de músics\nPl. Corona\, C. Anselm Clavé\,\nC. Sant Roc\, Pl. Porxada\n\n- 20.30h Cercavila de foc\nPl. Porxada\, C. Barcelona\, C. Princep de Viana. Pl. de la Corona\, C. Anselm Clavé\, C. Sant Roc\, Pl. Porxada\n\n
URL:https://www.bestiari.cat/esdeveniment/30a-mostra-de-bestiari-de-foc-del-drac-de-granollers/
LOCATION:Granollers\, Barcelona\, 08401\, Espanya
CATEGORIES:Activitats associats,Territorials,Vallès-Maresme-Barcelonès Nord
END:VEVENT
END:VCALENDAR