BEGIN:VCALENDAR
VERSION:2.0
PRODID:-//Agrupació del Bestiari Festiu i Popular de Catalunya - ECPv4.5.3//NONSGML v1.0//EN
CALSCALE:GREGORIAN
METHOD:PUBLISH
X-WR-CALNAME:Agrupació del Bestiari Festiu i Popular de Catalunya
X-ORIGINAL-URL:https://www.bestiari.cat
X-WR-CALDESC:Events for Agrupació del Bestiari Festiu i Popular de Catalunya
BEGIN:VEVENT
DTSTART;TZID=UTC+1:20230217T220000
DTEND;TZID=UTC+1:20230217T233000
DTSTAMP:20260419T232139
CREATED:20230214T102025Z
LAST-MODIFIED:20230214T103335Z
UID:20973-1676671200-1676676600@www.bestiari.cat
SUMMARY:31è Correfoc de Carnestoltes a Argentona
DESCRIPTION:Aquest divendres 17 de febrer\, els Diables d'Argentona celebraran el 31è Correfoc de Carnestoltes.\n\nUs esperen a les deu de la nit davant de l'Ajuntament\, amb moltes ganes de petar foc!
URL:https://www.bestiari.cat/esdeveniment/31e-correfoc-de-carnestoltes-a-argentona/
LOCATION:Carrer Gran\, 59\, Argentona\, Barcelona\, 08310\, Espanya
CATEGORIES:Activitats associats,Vallès-Maresme-Barcelonès Nord
ATTACH;FMTTYPE=image/jpeg:https://www.bestiari.cat/wp-content/uploads/2023/02/correfoc-argentona.jpeg
END:VEVENT
END:VCALENDAR