BEGIN:VCALENDAR
VERSION:2.0
PRODID:-//Agrupació del Bestiari Festiu i Popular de Catalunya - ECPv4.5.3//NONSGML v1.0//EN
CALSCALE:GREGORIAN
METHOD:PUBLISH
X-WR-CALNAME:Agrupació del Bestiari Festiu i Popular de Catalunya
X-ORIGINAL-URL:https://www.bestiari.cat
X-WR-CALDESC:Events for Agrupació del Bestiari Festiu i Popular de Catalunya
BEGIN:VEVENT
DTSTART;TZID=UTC+1:20221105T190000
DTEND;TZID=UTC+1:20221105T233000
DTSTAMP:20260419T232057
CREATED:20221031T173309Z
LAST-MODIFIED:20221031T173309Z
UID:19979-1667674800-1667691000@www.bestiari.cat
SUMMARY:32è Correfoc de la Verneda
DESCRIPTION:Els Diables de la Verneda i les Guspires de Sant Martí celebraran el pròxim dissabte 5 de novembre el 32è Correfoc de la Verneda.\n\nL'esdeveniment començarà a les set de la tarda amb una tabalada. A les 20 h serà el torn del correfoc\, en el qual participaran un total de vuit colles\, i ja a la nit hi haurà concert de Festa Major.
URL:https://www.bestiari.cat/esdeveniment/32e-correfoc-de-la-verneda/
CATEGORIES:Activitats associats,Barcelona Ciutat
ATTACH;FMTTYPE=image/jpeg:https://www.bestiari.cat/wp-content/uploads/2022/10/311857884_440881734816953_1348353283754485982_n.jpeg
END:VEVENT
END:VCALENDAR