BEGIN:VCALENDAR
VERSION:2.0
PRODID:-//Agrupació del Bestiari Festiu i Popular de Catalunya - ECPv4.5.3//NONSGML v1.0//EN
CALSCALE:GREGORIAN
METHOD:PUBLISH
X-WR-CALNAME:Agrupació del Bestiari Festiu i Popular de Catalunya
X-ORIGINAL-URL:https://www.bestiari.cat
X-WR-CALDESC:Events for Agrupació del Bestiari Festiu i Popular de Catalunya
BEGIN:VEVENT
DTSTART;TZID=UTC+1:20171104T130000
DTEND;TZID=UTC+1:20171104T213000
DTSTAMP:20260420T002827
CREATED:20171031T064518Z
LAST-MODIFIED:20171031T064518Z
UID:3048-1509800400-1509831000@www.bestiari.cat
SUMMARY:35 anys gaudint del Drac de Gràcia
DESCRIPTION:El proper dissabte 4 de novembre\, la colla del Drac de Gràcia organitza una passejada de bèsties pels carrers del barri de Gràcia per a celebrar el 35è anviersari del seu drac.\n\nPROGRAMA D'ACTES\n\n \tA les 13h\, plantada de bèsties a la Plaça de Lesseps\n \tA les 17:30h\, inici de la passejada pel C. Gran de Gràcia amb Plaça Lesseps fins al Pla e Salmerón\n\nHi participarà prop d'una trentena de figures de bestiari festiu: el Drac de Gràcia\, el Drac Jove de Gràcia\, el Drac Capallà d'Horta-Carmel\, el Viagrot de Cubelles\, l'Atzeries de la Vella de Gràcia\, el Drac Gaudiamus del Coll\, el Drac de Sarrià\, el Drac de la Geltrú\, el Gar-i-Got de Castelldefels\, el Drac Dom Fumera de Badalona\, la Dragona de Roquetes del Garraf\, el Drac de la Ciutat Vella de Barcelona\, el Drac la Meri de la Guineueta\, el Drac Pepa de Santa Perpètua de la Mogoda\, el Drac Volador de la Sagrera\, el Sagresaure de la Sagrera\, el Drac de Sant Jaume dels Domens\, el Drac de Gelida\, el Drac Estarrufat del Poblenou\, la Víbria del Poblenou\, la Víbria de Castelló de la Plana\, el Drac Antonot de Sabadell\, el Drac de Terrassa\, el Drac la Revolta de Figueres\, el Drac Blai <<el Devastador de Terres>> de Santa Coloma de Gramanet\, el Drac de Moja\, el Drac de Banyeres del Penedès\, el Drac de Reus i el Drac de Pineda.\n\nEn aquest enllaç podeu descarregar-vos el cartell/programa d'actes del seguici: Cartell seguici\n\n
URL:https://www.bestiari.cat/esdeveniment/35-anys-gaudint-del-drac-de-gracia/
LOCATION:Plaça Lesseps\, Barcelona\, Espanya
CATEGORIES:Activitats promogudes,Barcelona Ciutat
ATTACH;FMTTYPE=image/jpeg:https://www.bestiari.cat/wp-content/uploads/2017/10/35aDracGracia.jpg
END:VEVENT
END:VCALENDAR