BEGIN:VCALENDAR
VERSION:2.0
PRODID:-//Agrupació del Bestiari Festiu i Popular de Catalunya - ECPv4.5.3//NONSGML v1.0//EN
CALSCALE:GREGORIAN
METHOD:PUBLISH
X-WR-CALNAME:Agrupació del Bestiari Festiu i Popular de Catalunya
X-ORIGINAL-URL:https://www.bestiari.cat
X-WR-CALDESC:Events for Agrupació del Bestiari Festiu i Popular de Catalunya
BEGIN:VEVENT
DTSTART;TZID=UTC+1:20220220T120000
DTEND;TZID=UTC+1:20220220T140000
DTSTAMP:20260424T081352
CREATED:20220215T094045Z
LAST-MODIFIED:20220215T094045Z
UID:17251-1645358400-1645365600@www.bestiari.cat
SUMMARY:37è Aniversari del Bitxo del Torrent Mitger
DESCRIPTION:El pròxim diumenge 20 de febrer\, la colla del Bitxo del Torrent Mitger ha preparat diferents activitats per celebrar el 37è aniversari de la figura. A les 12 del migdia\, a la plaça de la Cultura de Terrassa\, es farà una tabalada\, així com diferents manualitats i jocs oberts a tothom.\nPrograma d'actes\n\n \tTabalada de Bitxaires\n \tTaller: Vols ser Bitxaire?\n \tManualitats\n \tEl joc de la colla\n \tBallada del Bitxo\n
URL:https://www.bestiari.cat/esdeveniment/37e-aniversari-del-bitxo-del-torrent-mitger/
CATEGORIES:Activitats associats,Vallès-Maresme-Barcelonès Nord
ATTACH;FMTTYPE=image/png:https://www.bestiari.cat/wp-content/uploads/2022/02/Captura-de-Pantalla-2022-02-15-a-les-10.32.46.png
END:VEVENT
END:VCALENDAR