BEGIN:VCALENDAR
VERSION:2.0
PRODID:-//Agrupació del Bestiari Festiu i Popular de Catalunya - ECPv4.5.3//NONSGML v1.0//EN
CALSCALE:GREGORIAN
METHOD:PUBLISH
X-WR-CALNAME:Agrupació del Bestiari Festiu i Popular de Catalunya
X-ORIGINAL-URL:https://www.bestiari.cat
X-WR-CALDESC:Events for Agrupació del Bestiari Festiu i Popular de Catalunya
BEGIN:VEVENT
DTSTART;TZID=UTC+1:20200314T083000
DTEND;TZID=UTC+1:20200314T220000
DTSTAMP:20260420T061212
CREATED:20200310T113423Z
LAST-MODIFIED:20200313T091646Z
UID:8617-1584174600-1584223200@www.bestiari.cat
SUMMARY:3a Fira Gegantera Gironina a Caldes de Malavella (ANUL·LADA)
DESCRIPTION:(ACTIVITAT ANUL·LADA)\n\nDissabte 14 de març se celebrarà\, a Caldes de Malavella\, la tercera edició de la Fira Gegantera Gironina. Des de les 8.30 h del matí fins a les nou del vespre\, aquest municipi de la comarca de la Selva acollirà diferents activitats. Per exemple\, a les 12 hores es farà una taula rodona sobre com superar la davallada del món geganter. A les 13 h i a les 19 h es farà una demostració i explicació dels balls de gegants robòtics\, a càrrec de CaldesBot. Durant tot el dia\, a més\, hi haurà parades de constructors i artesans.\n\nPrograma d'actes: \n\n8.30 h a 10 h: Matinades pels carrers.\n\n10 h: Plantada de gegantonets a la Casa dels Gegants (Ajuntament nou).\n\n10 h: Xocolatada i coca pels participants.\n\n10.30 h: Parlaments i obertura de la fira.\n\n11 h: Ball de gala dels capgrossos i dels gegants i passejada per la fira amb els gegantonets.\n\n12 h: Taula rodona: "Com superar la davallada del món geganter. Propostes i solucions".\n\nPels volts de les 13 h: Demostració i explicació de balls de gegants robòtics. A càrrec de CaldesBot.\n\n16.30 h: Mostra de balls comarcals amb els Grillats amb Canya.\n\n17.30 h: Taller / demostració de com fer un gegantó.\n\nPels volts de les 19 h: Demostració i explicació de balls de gegants robòtics. A càrrec de CaldesBot.\n\n20 h: Tancament de la fira amb la "Polca de la Malavella" i "Nem a fer nones" (una tancada de gegants amb l'acompanyament dels Grallers Escaldats).\n\n20.30 h: Acompanya a en Suc de Bruc pel poble al "Fot-li\, Suc de Bruc" amb la xaranga HoPeta Street Band.
URL:https://www.bestiari.cat/esdeveniment/3a-fira-gegantera-gironina-a-caldes-de-malavella/
CATEGORIES:Altres activitats,Girona-Catalunya Nord i L'Hérault
ATTACH;FMTTYPE=image/jpeg:https://www.bestiari.cat/wp-content/uploads/2020/03/Cartell-Fira-Gegantera-Gironina.jpg
END:VEVENT
END:VCALENDAR