BEGIN:VCALENDAR
VERSION:2.0
PRODID:-//Agrupació del Bestiari Festiu i Popular de Catalunya - ECPv4.5.3//NONSGML v1.0//EN
CALSCALE:GREGORIAN
METHOD:PUBLISH
X-WR-CALNAME:Agrupació del Bestiari Festiu i Popular de Catalunya
X-ORIGINAL-URL:https://www.bestiari.cat
X-WR-CALDESC:Events for Agrupació del Bestiari Festiu i Popular de Catalunya
BEGIN:VEVENT
DTSTART;TZID=UTC+1:20190120T100000
DTEND;TZID=UTC+1:20190120T130000
DTSTAMP:20260420T044321
CREATED:20190104T102151Z
LAST-MODIFIED:20190104T102259Z
UID:4582-1547978400-1547989200@www.bestiari.cat
SUMMARY:3a Trobada de Bestiari Festiu i Popular de Castellbisbal
DESCRIPTION:Diumenge 20 de gener de 2019\n\n10.00 hores - La Bassa (av. Gaudí)\nPlantada de Bèsties\n\n11.30 hores - Pels carrers del poble\nPassejada pels carrers\nRecorregut: Av. Gaudí\, c. Sant Miquel\, c. Rabella\, c. Major\, Pl. de l'Església\, c. Pi i Margall i Pl. de l'Església\n\n13.00 hores - Plaça de l'Església\nBalls de lluïment i esclat final de festa
URL:https://www.bestiari.cat/esdeveniment/3a-trobada-de-bestiari-festiu-i-popular-de-castellbisbal/
CATEGORIES:Altres activitats,Vallès-Maresme-Barcelonès Nord
ATTACH;FMTTYPE=image/jpeg:https://www.bestiari.cat/wp-content/uploads/2019/01/3aTrobadaCastellbisbal.jpg
END:VEVENT
END:VCALENDAR