BEGIN:VCALENDAR
VERSION:2.0
PRODID:-//Agrupació del Bestiari Festiu i Popular de Catalunya - ECPv4.5.3//NONSGML v1.0//EN
CALSCALE:GREGORIAN
METHOD:PUBLISH
X-WR-CALNAME:Agrupació del Bestiari Festiu i Popular de Catalunya
X-ORIGINAL-URL:https://www.bestiari.cat
X-WR-CALDESC:Events for Agrupació del Bestiari Festiu i Popular de Catalunya
BEGIN:VEVENT
DTSTART;TZID=UTC+1:20230723T183000
DTEND;TZID=UTC+1:20230723T210000
DTSTAMP:20260420T002747
CREATED:20230719T115210Z
LAST-MODIFIED:20230719T115340Z
UID:22423-1690137000-1690146000@www.bestiari.cat
SUMMARY:40è aniversari del Drac de la Geltrú
DESCRIPTION:Aquest diumenge 23 se celebren els 40 anys dels tabalers del Drac de la Geltrú amb la renovació de tots els instruments de la colla del Drac gran. Tornen als orígens\, i passen a tabal tradicional! Veniu a escoltar els nostres nous tabals de pell de @xixoluthier en el marc de la @fmvilanovailageltru.\n18.30h. Acomiadem els tabals actuals amb una representació d'exmembres de la colla de tabalers. Des de la plaça de la Vila al Castell de la Geltrú.\n19h. Presentació dels nous tabals\, al Castell de la Geltrú.\nTot seguit\, cercavila amb les tres colles de tabals de la colla (Bessons\, Drac petit i Drac gran) i com a colles convidades els tabalers de la @collajoveribes i dels @diablesdesitges_collavella. Des del Castell a la plaça de la Vila.\nA la plaça de la Vila exhibició\, ballada amb els dracs de la Geltrú i final de festa.\n
URL:https://www.bestiari.cat/esdeveniment/40e-aniversari-drac-geltru/
CATEGORIES:Activitats associats,Penedès-Garraf,Territorials
ATTACH;FMTTYPE=image/png:https://www.bestiari.cat/wp-content/uploads/2023/07/Captura-de-pantalla-2023-07-19-a-les-13.49.17.png
END:VEVENT
END:VCALENDAR