BEGIN:VCALENDAR
VERSION:2.0
PRODID:-//Agrupació del Bestiari Festiu i Popular de Catalunya - ECPv4.5.3//NONSGML v1.0//EN
CALSCALE:GREGORIAN
METHOD:PUBLISH
X-WR-CALNAME:Agrupació del Bestiari Festiu i Popular de Catalunya
X-ORIGINAL-URL:https://www.bestiari.cat
X-WR-CALDESC:Events for Agrupació del Bestiari Festiu i Popular de Catalunya
BEGIN:VEVENT
DTSTART;TZID=UTC+1:20170708T183000
DTEND;TZID=UTC+1:20170708T233000
DTSTAMP:20260420T015205
CREATED:20170616T144734Z
LAST-MODIFIED:20170616T144734Z
UID:2458-1499538600-1499556600@www.bestiari.cat
SUMMARY:9è Festival d'Enceses de Bestiari (Artesa de Lleida)
DESCRIPTION:El proper 8 de juliol de 2017\, la població d'Artesa de Lleida es vesteix de bestiari\, acollint el ja tradicional Festival d'Enceses de Bestiari de Catalunya. Organitzat per la colla El Griu d'Artesa de Lleida i l'Agrupació del Bestiari Festiu i Popular de Catalunya\, el certamen promou el perfeccionament i la millora de les enceses en equilibri\, fugint de la competitivitat.\n\nPrograma d'actes del dissabte 8 de juliol de 2017:\n\n \t18:30h XIIa TROBADA DE BESTIARI DE FOC D'ARTESA DE LLEIDA\, a la Plaça Major. Convit de foc de l'Hydra. Amb la participació del Drac infantil de Granollers\, el Drac de l'Agrupació del Bestiari Festiu i Popular de Catalunya\, la Colla Los Petits dels Rojos de Juneda\, els Diablons d'Artesa de Lleida de la colla del Griu i els grups de percussió Kumbeva.\n \t23:00h 9è FESTIVAL D'ENCESES DEL BESTIARI DE CATALUNYA\, a la Plaça Major. Hi participen: el Drac de Sant Roc de Tarragona\, Lo Golafre de Tortosa\, el Drac Pepito de Sant Boi de Llobregat\, la Gralla de Foc de Granollers\, el Drac Apocaleus de Vallirana i l'amfitrió\, el Griu d'Artesa de Lleida.\n \t22:30h CONCERT amb els grups CRONISTES i EBRI KNIGHT\n\nCartell:\n\n
URL:https://www.bestiari.cat/esdeveniment/9e-festival-denceses-de-bestiari-artesa-de-lleida/
LOCATION:Plaça Major\, Artesa de Lleida\, Espanya
CATEGORIES:Activitats pròpies
ATTACH;FMTTYPE=image/jpeg:https://www.bestiari.cat/wp-content/uploads/2017/06/Captura.jpg
END:VEVENT
END:VCALENDAR