BEGIN:VCALENDAR
VERSION:2.0
PRODID:-//Agrupació del Bestiari Festiu i Popular de Catalunya - ECPv4.5.3//NONSGML v1.0//EN
CALSCALE:GREGORIAN
METHOD:PUBLISH
X-WR-CALNAME:Agrupació del Bestiari Festiu i Popular de Catalunya
X-ORIGINAL-URL:https://www.bestiari.cat
X-WR-CALDESC:Events for Agrupació del Bestiari Festiu i Popular de Catalunya
BEGIN:VEVENT
DTSTART;TZID=UTC+1:20211120T203000
DTEND;TZID=UTC+1:20211120T223000
DTSTAMP:20260419T232431
CREATED:20211105T112912Z
LAST-MODIFIED:20211105T112938Z
UID:16151-1637440200-1637447400@www.bestiari.cat
SUMMARY:Actes de Foc Festa Major el Clot-Camp de l'Arpa
DESCRIPTION:Amb motiu de la Festa Major del Clot- Camp de l'Arpa\, aquest mes de novembre es faran diferents actes de foc. És el cas d'una Tabalada i Correfoc el 20 de novembre a les 20.30 h a la plaça de Can Robacols.
URL:https://www.bestiari.cat/esdeveniment/actes-de-foc-festa-major-el-clot-camp-de-larpa/
LOCATION:Plaça de Can Robacols\, Barcelona\, Barcelona \, 08018\, Espanya
CATEGORIES:Activitats associats
ATTACH;FMTTYPE=image/jpeg:https://www.bestiari.cat/wp-content/uploads/2021/11/250546395_1951894261648241_9177991012677690434_n.jpg
END:VEVENT
END:VCALENDAR