BEGIN:VCALENDAR
VERSION:2.0
PRODID:-//Agrupació del Bestiari Festiu i Popular de Catalunya - ECPv4.5.3//NONSGML v1.0//EN
CALSCALE:GREGORIAN
METHOD:PUBLISH
X-WR-CALNAME:Agrupació del Bestiari Festiu i Popular de Catalunya
X-ORIGINAL-URL:https://www.bestiari.cat
X-WR-CALDESC:Events for Agrupació del Bestiari Festiu i Popular de Catalunya
BEGIN:VEVENT
DTSTART;VALUE=DATE:20220919
DTEND;VALUE=DATE:20220923
DTSTAMP:20260420T003015
CREATED:20220913T171650Z
LAST-MODIFIED:20220913T171712Z
UID:19410-1663545600-1663977599@www.bestiari.cat
SUMMARY:Actes de la Mulassa de Tarragona del 19 al 23 de setembre
DESCRIPTION:
URL:https://www.bestiari.cat/esdeveniment/actes-de-la-mulassa-de-tarragona-del-19-al-23-de-setembre/
CATEGORIES:Activitats associats,El Camp-Conca-Priorat
ATTACH;FMTTYPE=image/png:https://www.bestiari.cat/wp-content/uploads/2022/09/2.png
END:VEVENT
END:VCALENDAR