BEGIN:VCALENDAR
VERSION:2.0
PRODID:-//Agrupació del Bestiari Festiu i Popular de Catalunya - ECPv4.5.3//NONSGML v1.0//EN
CALSCALE:GREGORIAN
METHOD:PUBLISH
X-WR-CALNAME:Agrupació del Bestiari Festiu i Popular de Catalunya
X-ORIGINAL-URL:https://www.bestiari.cat
X-WR-CALDESC:Events for Agrupació del Bestiari Festiu i Popular de Catalunya
BEGIN:VEVENT
DTSTART;TZID=UTC+1:20180519T190000
DTEND;TZID=UTC+1:20180519T210000
DTSTAMP:20260420T094954
CREATED:20180515T082607Z
LAST-MODIFIED:20180515T082607Z
UID:3750-1526756400-1526763600@www.bestiari.cat
SUMMARY:Actes dins la III Setmana de la Cultura al Grau
DESCRIPTION:El Ball de dimonis i bestiari Botafocs de Castelló de la Plana organtiza l'activitat "Portem el bestiari?" en el marc de la III Setmana de la Cultura al Grau (L'Ham 2018).\n\nAquest acte pretén apropar el món del bestiari festiu a totes les edats.
URL:https://www.bestiari.cat/esdeveniment/actes-dins-la-iii-setmana-de-la-cultura-al-grau/
LOCATION:Parc de la Panderola\, Castelló de la Plana\, Espanya
CATEGORIES:Activitats associats,País Valencià
ATTACH;FMTTYPE=image/jpeg:https://www.bestiari.cat/wp-content/uploads/2018/05/32072880_857149647802563_7846294106010550272_n.jpg
END:VEVENT
END:VCALENDAR