BEGIN:VCALENDAR
VERSION:2.0
PRODID:-//Agrupació del Bestiari Festiu i Popular de Catalunya - ECPv4.5.3//NONSGML v1.0//EN
CALSCALE:GREGORIAN
METHOD:PUBLISH
X-WR-CALNAME:Agrupació del Bestiari Festiu i Popular de Catalunya
X-ORIGINAL-URL:https://www.bestiari.cat
X-WR-CALDESC:Events for Agrupació del Bestiari Festiu i Popular de Catalunya
BEGIN:VEVENT
DTSTART;TZID=UTC+1:20230701T181500
DTEND;TZID=UTC+1:20230701T210000
DTSTAMP:20260420T014856
CREATED:20230628T173233Z
LAST-MODIFIED:20230628T173233Z
UID:22351-1688235300-1688245200@www.bestiari.cat
SUMMARY:L'Aigueta del Vendrell al Serrallo i Font de la Menya
DESCRIPTION:El dissabte 1 de juliol podreu gaudir de l'Aligueta del Vendrell al cercabarri del Pa Beneit a partir de les 18.15 h als barris del Serrallo i Font de la Menya. I com no podia ser d'altra manera\, els acompanyaran Les Gralles de l'Aligueta.\n\n
URL:https://www.bestiari.cat/esdeveniment/aigueta-vendrell-serrallo/
CATEGORIES:Activitats associats,Penedès-Garraf,Territorials
END:VEVENT
END:VCALENDAR