BEGIN:VCALENDAR
VERSION:2.0
PRODID:-//Agrupació del Bestiari Festiu i Popular de Catalunya - ECPv4.5.3//NONSGML v1.0//EN
CALSCALE:GREGORIAN
METHOD:PUBLISH
X-WR-CALNAME:Agrupació del Bestiari Festiu i Popular de Catalunya
X-ORIGINAL-URL:https://www.bestiari.cat
X-WR-CALDESC:Events for Agrupació del Bestiari Festiu i Popular de Catalunya
BEGIN:VEVENT
DTSTART;TZID=UTC+1:20250927T220000
DTEND;TZID=UTC+1:20250927T235900
DTSTAMP:20260419T200012
CREATED:20250905T162616Z
LAST-MODIFIED:20250905T162616Z
UID:27483-1759010400-1759017540@www.bestiari.cat
SUMMARY:Animalada de Lleida 2025
DESCRIPTION:Animalada de Lleida 2025\n\nL'Animalada del Col·lectiu Cultural de Cappont\, és la festa més bestial. Urpes\, queixals i peülles heu d'afilar\, per dansar i treure la vostra versió més animal.\n\nEl proper 27 de setembre a...\n\nLloc: Pl. Blas Infante\nHora: 22.00h (inici quan acabi la nit de foc)\n\nActivitat dedicada especialment per als joves\, però oberta a tothom que vulgui gaudir d’una experiència sorprenent. Imaginem les bèsties i elements de la cultura popular ballant\, no al so de les gralles i els tabals\, sinó al ritme dels grans èxits musicals del moment.\n\nProgramat per la nit de dissabte 27 de setembre en la programació d'actes de les Festes de Tardor de Lleida\, just després de la Nit de Foc on tindrem un espai on les bèsties convidades seran les protagonistes d’un espectacle modern i vibrant\, sense perdre l’essència popular.\n\nPrograma-animalades-Lleida-2025\n\n 
URL:https://www.bestiari.cat/esdeveniment/animalada-de-lleida-2025/
LOCATION:Lleida\, 25001 \, Espanya
CATEGORIES:Activitats associats,Terres de Ponent-Alt Pirineu,Territorials
END:VEVENT
END:VCALENDAR