BEGIN:VCALENDAR
VERSION:2.0
PRODID:-//Agrupació del Bestiari Festiu i Popular de Catalunya - ECPv4.5.3//NONSGML v1.0//EN
CALSCALE:GREGORIAN
METHOD:PUBLISH
X-WR-CALNAME:Agrupació del Bestiari Festiu i Popular de Catalunya
X-ORIGINAL-URL:https://www.bestiari.cat
X-WR-CALDESC:Events for Agrupació del Bestiari Festiu i Popular de Catalunya
BEGIN:VEVENT
DTSTART;TZID=UTC+1:20250927T103000
DTEND;TZID=UTC+1:20250927T140000
DTSTAMP:20260419T183508
CREATED:20250905T161920Z
LAST-MODIFIED:20250905T161920Z
UID:27478-1758969000-1758981600@www.bestiari.cat
SUMMARY:Animalada Infantil 2025 a Lleida
DESCRIPTION:Animalada Infantil 2025 a Lleida\n\nLa cultura popular es posa a les mans dels infants amb les seves figures festives. El Col·lectiu Cultural Cappont ha organitzat una trobada oberta a tothom\, plena de ritme i somriures.\n\nLlocs i horaris\n\n- 10.30h Jardins Zoe Rosinach Plantada i inscripcions dels elements infantils participants (seran benvingudes totes les figures infantils ja siguin casolanes o adquirides en tallers)\n\n- ⁠11.30h Cercavila pels carrers del barrí des de Jardins de Zoe Rosinach fins a Plaça Cappont per Avinguda València i entrant per Sant Joan de Mata\n\n- 12.00h Espectacle del Pallasso Tortelini i balls dels elements festius a la plaça Cappont⁠.\n\nSerà el preludi de l'animalada de Lleida que es celebra el mateix dissabte 27 de setembre a les 22h a la Plaça Blas Infante on les bèsties convidades ballaran a ritme de música de DJ. Tot en el context de les Festes de Tardor de la ciutat de Lleida.\n\nUs hi esperen!\n\nPrograma-animalades-Lleida-2025\n
URL:https://www.bestiari.cat/esdeveniment/animalada-infantil-2025-a-lleida/
LOCATION:Lleida\, 25001 \, Espanya
CATEGORIES:Activitats associats,Terres de Ponent-Alt Pirineu,Territorials
END:VEVENT
END:VCALENDAR