BEGIN:VCALENDAR
VERSION:2.0
PRODID:-//Agrupació del Bestiari Festiu i Popular de Catalunya - ECPv4.5.3//NONSGML v1.0//EN
CALSCALE:GREGORIAN
METHOD:PUBLISH
X-WR-CALNAME:Agrupació del Bestiari Festiu i Popular de Catalunya
X-ORIGINAL-URL:https://www.bestiari.cat
X-WR-CALDESC:Events for Agrupació del Bestiari Festiu i Popular de Catalunya
BEGIN:VEVENT
DTSTART;TZID=UTC+1:20170630T113000
DTEND;TZID=UTC+1:20170702T170000
DTSTAMP:20260419T232215
CREATED:20170628T150822Z
LAST-MODIFIED:20170628T150822Z
UID:2487-1498822200-1499014800@www.bestiari.cat
SUMMARY:Aplec Internacional a Ostrava (República Txeca)
DESCRIPTION:Des de fa una pila d'anys\, Adifolk organitza en diferents ciutats europees\, de forma anual\, un aplec internacional de cultura catalana. Enguany\, la cita arriba a la seva 30a edició\, i es celebrarà els dies 30 de juny\, 1 i 2 de juliol a la ciutat d'Ostrava\, a la República Txeca.\n\nHi participen grups de diferents disciplines de cultura popular\, com ara agrupacions musicals\, capgrossos\, castellers\, diables\, esbarts\, gegants o bestiari. El col·lectiu del bestiari festiu està representat per l'Àliga de Tàrrega i el Drac de Figueres.\n\nPrograma d'actes:\n\n\nDIVENDRES\, 30 DE JUNY\n\n\n11.30 - 12.30 h  Main Square Ballada de Sardanes.\n\n13.00 h  Ajuntament Ostrava Recepció institucional als grups participants.\n\n16.00 h  Ajuntament/Main Square Cercavila inagural de l'Aplec.\n\n18.00 - 19.30 h  Castle Espectacle multidisciplinar.\n\n22.15 - 23.15 h  Castle Ball folk.\n\n \n\nDISSABTE\, 1 DE JULIOL\n\n\n11.00 - 12.30 h  Main Square Jornada Castellera i Sardanes.\n\n13.00 h  Castle Cercavila.\n\n19.45 - 20.45 h  Castle Concert/Espectacle de cor\, orquestra i cobla.\n\n22.15 - 23.45 h  Castle Nit del Foc i Espectacle final. Proclamació de l'Aplec Internacional 2018.\n\n \n\nDIUMENGE\, 2 DE JULIOL\n\n\n11.00 h  Main Square Ballada de Sardanes. Cloenda de l'Aplec Internacional 2017.\n\n\nPrograma d'actes complet: 87_1_QRAplec2017
URL:https://www.bestiari.cat/esdeveniment/aplec-internacional-a-ostrava-republica-txeca/
LOCATION:Ostrava\, República Txeca
CATEGORIES:Altres activitats
ATTACH;FMTTYPE=image/jpeg:https://www.bestiari.cat/wp-content/uploads/2017/06/1580_APLEC2017-Logo.jpg
END:VEVENT
END:VCALENDAR