BEGIN:VCALENDAR
VERSION:2.0
PRODID:-//Agrupació del Bestiari Festiu i Popular de Catalunya - ECPv4.5.3//NONSGML v1.0//EN
CALSCALE:GREGORIAN
METHOD:PUBLISH
X-WR-CALNAME:Agrupació del Bestiari Festiu i Popular de Catalunya
X-ORIGINAL-URL:https://www.bestiari.cat
X-WR-CALDESC:Events for Agrupació del Bestiari Festiu i Popular de Catalunya
BEGIN:VEVENT
DTSTART;TZID=UTC+1:20250927T100000
DTEND;TZID=UTC+1:20250927T235900
DTSTAMP:20260420T033157
CREATED:20250925T172355Z
LAST-MODIFIED:20250925T172355Z
UID:27608-1758967200-1759017540@www.bestiari.cat
SUMMARY:Aplek st.p Jove a Terrassa
DESCRIPTION:APLEK Sant Pere Jove 2025 \n\n27/9/25 | Plaça Rosa Mora\n\nJa ho tenen tot a punt per viure un dia i una nit de festa non-stop al cor de Sant Pere! \n\nMATÍ & MIGDIA\n10:00 – Jocs i tallers amb l'Esplai @boterut\n12:00 – Cercavila familiar “Sant Pere va al Mercat” amb @papallonadesantpere O @mulassatrs\n14:00 – Arrossada popular (vegana o carnívora) *Preus a sota\n\nNIT\n20:00 – Jocs de colles\n21:00 – Premis & reconeixement\n21:15 – Aplegada de colles amb\n@diablesmaurinaoficial +\n@lapajaradeterrassa + @mulassatrs\n\n22:15 – Sopar popular (entrepans + barra)\n22:30 – PD Fuana\n23:30 – DJ Set Jbori & Navvvarro\n00:30 – Final de festa\n\nTiquets de l’arrossada: 10€ anticipada | 15 € mateix dia\nSopar i barra: preus populars\n\n
URL:https://www.bestiari.cat/esdeveniment/aplek-st-p-jove-a-terrassa/
CATEGORIES:Activitats associats,Territorials,Vallès-Maresme-Barcelonès Nord
END:VEVENT
END:VCALENDAR