BEGIN:VCALENDAR
VERSION:2.0
PRODID:-//Agrupació del Bestiari Festiu i Popular de Catalunya - ECPv4.5.3//NONSGML v1.0//EN
CALSCALE:GREGORIAN
METHOD:PUBLISH
X-WR-CALNAME:Agrupació del Bestiari Festiu i Popular de Catalunya
X-ORIGINAL-URL:https://www.bestiari.cat
X-WR-CALDESC:Events for Agrupació del Bestiari Festiu i Popular de Catalunya
BEGIN:VEVENT
DTSTART;TZID=UTC+0:20170225T110000
DTEND;TZID=UTC+0:20170225T113000
DTSTAMP:20260420T060934
CREATED:20170213T165242Z
LAST-MODIFIED:20170213T165438Z
UID:1897-1488020400-1488022200@www.bestiari.cat
SUMMARY:Assemblea General Extraordinària
DESCRIPTION:Es convoquen a totes les entitats federades a l'ASSEMBLEA GENERAL EXTRAORDINÀRIA que tindrà lloc el dissabte 25 de febrer\, a les 11h\, a Can Saladrigas (Poblenou\, Barcelona)\, amb la renovació del càrrec de presidència com a únic punt de l'ordre del dia. A continuació\, es convocarà la pertinent ASSEMBLEA GENERAL ORDINÀRIA\, a les 11:30h del mateix dia al mateix lloc.\n\nEn acabar\, se servirà un aperitiu.\n\nHeu d'haver rebut en el vostre correu electrònic la convocatòria d'ambdues assemblees\, així com tota la documentació que es tractarà en l'ordre del dia. També rebreu un document adjunt on s'indica el procediment per a recollir els títols originals de RGCRE.\n\nAgraïm per endavant la vostra assistència\, tot esperant poder-vos saludar personalment.
URL:https://www.bestiari.cat/esdeveniment/assemblea-general-extraordinaria/
LOCATION:Carrer del Joncar\, 35\, Barcelona\, Catalunya\, Espanya
CATEGORIES:Activitats pròpies
ATTACH;FMTTYPE=image/jpeg:https://www.bestiari.cat/wp-content/uploads/2017/02/2008_1206poblenou0062.jpg
ORGANIZER;CN="Agrupaci%C3%B3%20del%20Bestiari%20Festiu%20i%20Popular%20de%20Catalunya":MAILTO:info@bestiari.cat
END:VEVENT
END:VCALENDAR