BEGIN:VCALENDAR
VERSION:2.0
PRODID:-//Agrupació del Bestiari Festiu i Popular de Catalunya - ECPv4.5.3//NONSGML v1.0//EN
CALSCALE:GREGORIAN
METHOD:PUBLISH
X-WR-CALNAME:Agrupació del Bestiari Festiu i Popular de Catalunya
X-ORIGINAL-URL:https://www.bestiari.cat
X-WR-CALDESC:Events for Agrupació del Bestiari Festiu i Popular de Catalunya
BEGIN:VEVENT
DTSTART;TZID=UTC+1:20170419T200000
DTEND;TZID=UTC+1:20170419T210000
DTSTAMP:20260420T131850
CREATED:20170417T171643Z
LAST-MODIFIED:20170417T171643Z
UID:2153-1492632000-1492635600@www.bestiari.cat
SUMMARY:Assemblea Territorial Barcelona Ciutat
DESCRIPTION:\n\nA totes les entitats federades de la Territorial Barcelona Ciutat:\n\nl’Agrupació del Bestiari Festiu i Popular de Catalunya convoca Assemblea de la territorial de Barcelona Ciutat el proper dimecres 19 d’abril a les 20h a l’Orfeó Martinenc (Av. Meridiana 97\, Barcelona9 amb el següent ordre del dia:\n\n \tRenovació delegat territorial\n\n
URL:https://www.bestiari.cat/esdeveniment/assemblea-territorial-barcelona-ciutat/
LOCATION:Avinguda Meridiana 97\, Barcelona\, Espanya
CATEGORIES:Activitats pròpies
ATTACH;FMTTYPE=image/jpeg:https://www.bestiari.cat/wp-content/uploads/2017/04/orfeomartinenc05.jpg
ORGANIZER;CN="Agrupaci%C3%B3%20del%20Bestiari%20Festiu%20i%20Popular%20de%20Catalunya":MAILTO:info@bestiari.cat
END:VEVENT
END:VCALENDAR