BEGIN:VCALENDAR
VERSION:2.0
PRODID:-//Agrupació del Bestiari Festiu i Popular de Catalunya - ECPv4.5.3//NONSGML v1.0//EN
CALSCALE:GREGORIAN
METHOD:PUBLISH
X-WR-CALNAME:Agrupació del Bestiari Festiu i Popular de Catalunya
X-ORIGINAL-URL:https://www.bestiari.cat
X-WR-CALDESC:Events for Agrupació del Bestiari Festiu i Popular de Catalunya
BEGIN:VEVENT
DTSTART;TZID=UTC+1:20211023T170000
DTEND;TZID=UTC+1:20211023T213000
DTSTAMP:20260419T205209
CREATED:20211022T103652Z
LAST-MODIFIED:20211022T104228Z
UID:15926-1635008400-1635024600@www.bestiari.cat
SUMMARY:Atza#diada
DESCRIPTION:Dissabte 23 Octubre\, a la plaça de les Dones del 36 del barri de Gràcia\, es farà la celebració dels cinc anys d'història de l'Atzeries amb els padrins Gaudiamus i Drac de Gràcia i\, com a convidats\, el Basilisc de Mataró i la Galera de Foc de Cambrils.\n\nL’activitat estarà dividida en dues parts. De 17 a 20 h es farà una plantada i mostra de bèsties de foc. De 20 a 21.30 h tindrà lloc un espectacle de lluïment per part de les bèsties.\n\nPer poder-hi assistir s'ha de reservar entrada: https://www.inscribirme.com/5anysatzeriesdelavelladegracia?fbclid=IwAR09pt3AGUx815vwAPqzKV7oT89XnHOup3jkuKOxRQvTDV6gEi01RNlhDak\n\n 
URL:https://www.bestiari.cat/esdeveniment/atzadiada/
LOCATION:Plaça de les Dones del 36\, Barcelona\, Barcelona \, 08012\, Espanya
CATEGORIES:Activitats associats,Barcelona Ciutat
ATTACH;FMTTYPE=image/jpeg:https://www.bestiari.cat/wp-content/uploads/2021/10/atzadiada.jpeg
END:VEVENT
END:VCALENDAR