BEGIN:VCALENDAR
VERSION:2.0
PRODID:-//Agrupació del Bestiari Festiu i Popular de Catalunya - ECPv4.5.3//NONSGML v1.0//EN
CALSCALE:GREGORIAN
METHOD:PUBLISH
X-WR-CALNAME:Agrupació del Bestiari Festiu i Popular de Catalunya
X-ORIGINAL-URL:https://www.bestiari.cat
X-WR-CALDESC:Events for Agrupació del Bestiari Festiu i Popular de Catalunya
BEGIN:VEVENT
DTSTART;TZID=UTC+1:20250815T220000
DTEND;TZID=UTC+1:20250815T235900
DTSTAMP:20260419T183549
CREATED:20250808T165734Z
LAST-MODIFIED:20250808T165956Z
UID:27301-1755295200-1755302340@www.bestiari.cat
SUMMARY:Bany de Bèsties a Badalona
DESCRIPTION:Bany de Bèsties a Badalona\n\nTorna el Bany de Bèsties a Badalona! La Comissió Tècnica Badalona Bèsties de Foc torna a organitzar el Bany de Bèsties\, que tindrà lloc el pròxim divendres 15 d’agost a la platja del Pont d’en Botifarreta\, dins el marc de la Festa Major de la ciutat.\n\n\n \nUna activitat singular dins el calendari festiu d’estiu\, on les bèsties de foc tenen un protagonisme ben especial.\nEnguany\, a més\, és una edició molt significativa: la víbria Trempada celebra el seu 35è aniversari\, i va ser precisament ella qui\, de manera espontània\, va donar origen al Bany de Bèsties\, una tradició que amb els anys s’ha consolidat com una cita imprescindible de la Festa Major.\n\n\nCartell del Bany de Bèsties a Badalona 2025\nQuè és el Bany de Bèsties?\n\n\n\n\n\n\n\nEl Bany de Bèsties és un acte únic nascut a Badalona\, que va començar de manera improvisada el 15 d’agost de 2001\, quan la Trempada\, animada per la seva colla\, es va llançar al mar després del correfoc. Un any més tard\, el 2002\, aquest gest espontani es convertia en el primer bany oficial de bèsties\, començant una tradició que avui forma part del calendari festiu de la ciutat.\n\n\n\n\n\n\n\n\n\nBèsties i diables recorren el passeig Marítim fins a la platja del Pont d’en Botifarreta\, on tenen lloc les enceses finals. Un cop a la sorra\, cada colla fa el seu lluïment\, i per concloure\, les bèsties travessen un passadís de foc i\, encara enceses\, s’endinsen al mar\, convidant el públic a banyar-se amb elles.\n\n\n\n\n\n\n\n\nEl lloc on es du a terme aquest acte és ple de simbolismes mariners i de cultura de foc. A les platges de Badalona\, cada mes de maig des de 1955\, s’hi celebra la tradicional Cremada del Dimoni\, un dels esdeveniments més emblemàtics de la ciutat. Així doncs\, aquest escenari pren força amb un altre acte singular de la ciutat: el Bany de Bèsties\, fusionant el foc i l’aigua en una celebració festiva i popular.\n\n\n\n\n\n\n\nBadalona Bèsties de Foc\, som els organitzadors d’aquest acte. Des de 1983\, treballem per recuperar i mantenir viva la tradició del bestiari festiu a la ciutat\, i volem continuar fent créixer la cultura popular badalonina a través d’esdeveniments com aquest.\n\n\n\n\n\nEls cartells han estat dissenyats per Paula Castro Ruiz\, a qui agraeixen molt la col·laboració.\n\n\n\n\n\n\n \n\n \n\n \n\n \n\n \n\n \n\n \n\n \n\n \n\nCartells addicionals del Bany de Bany de Bèsties a Badalona 2025\n\n
URL:https://www.bestiari.cat/esdeveniment/bany-de-besties-a-badalona/
LOCATION:Badalona\, Barcelona\, 08911\, Espanya
CATEGORIES:Activitats associats,Territorials,Vallès-Maresme-Barcelonès Nord
END:VEVENT
END:VCALENDAR