BEGIN:VCALENDAR
VERSION:2.0
PRODID:-//Agrupació del Bestiari Festiu i Popular de Catalunya - ECPv4.5.3//NONSGML v1.0//EN
CALSCALE:GREGORIAN
METHOD:PUBLISH
X-WR-CALNAME:Agrupació del Bestiari Festiu i Popular de Catalunya
X-ORIGINAL-URL:https://www.bestiari.cat
X-WR-CALDESC:Events for Agrupació del Bestiari Festiu i Popular de Catalunya
BEGIN:VEVENT
DTSTART;TZID=UTC+1:20190803T190000
DTEND;TZID=UTC+1:20190804T023000
DTSTAMP:20260422T083153
CREATED:20190723T182436Z
LAST-MODIFIED:20190723T182436Z
UID:5335-1564858800-1564885800@www.bestiari.cat
SUMMARY:Batalla de Foc
DESCRIPTION:
URL:https://www.bestiari.cat/esdeveniment/batalla-de-foc/
LOCATION:Sant Antolí\, Espanya
CATEGORIES:Activitats promogudes,Terres de Ponent-Alt Pirineu
ATTACH;FMTTYPE=image/jpeg:https://www.bestiari.cat/wp-content/uploads/2019/07/BatallaDeFocRiberaOndara2019.jpg
END:VEVENT
END:VCALENDAR